BEGIN:VCALENDAR
VERSION:2.0
PRODID:-//CISC - ECPv6.15.20//NONSGML v1.0//EN
CALSCALE:GREGORIAN
METHOD:PUBLISH
X-WR-CALNAME:CISC
X-ORIGINAL-URL:https://cisc-seattle.org
X-WR-CALDESC:Events for CISC
REFRESH-INTERVAL;VALUE=DURATION:PT1H
X-Robots-Tag:noindex
X-PUBLISHED-TTL:PT1H
BEGIN:VTIMEZONE
TZID:America/Los_Angeles
BEGIN:DAYLIGHT
TZOFFSETFROM:-0800
TZOFFSETTO:-0700
TZNAME:PDT
DTSTART:20250309T100000
END:DAYLIGHT
BEGIN:STANDARD
TZOFFSETFROM:-0700
TZOFFSETTO:-0800
TZNAME:PST
DTSTART:20251102T090000
END:STANDARD
BEGIN:DAYLIGHT
TZOFFSETFROM:-0800
TZOFFSETTO:-0700
TZNAME:PDT
DTSTART:20260308T100000
END:DAYLIGHT
BEGIN:STANDARD
TZOFFSETFROM:-0700
TZOFFSETTO:-0800
TZNAME:PST
DTSTART:20261101T090000
END:STANDARD
BEGIN:DAYLIGHT
TZOFFSETFROM:-0800
TZOFFSETTO:-0700
TZNAME:PDT
DTSTART:20270314T100000
END:DAYLIGHT
BEGIN:STANDARD
TZOFFSETFROM:-0700
TZOFFSETTO:-0800
TZNAME:PST
DTSTART:20271107T090000
END:STANDARD
END:VTIMEZONE
BEGIN:VEVENT
DTSTART;TZID=America/Los_Angeles:20261130T130000
DTEND;TZID=America/Los_Angeles:20261130T140000
DTSTAMP:20260424T091510
CREATED:20260102T235317Z
LAST-MODIFIED:20260102T235317Z
UID:10000550-1796043600-1796047200@cisc-seattle.org
SUMMARY:Sunshine Garden: Chinese Knot Crochet
DESCRIPTION:Learn and practice Chinese knot crochet skills with our instructor and participants. \nNote: Check our monthly Sunshine Garden calendar to confirm the class schedule prior to attending. \nSunshine Garden Archives – Chinese Information and Service Center
URL:https://cisc-seattle.org/event/sunshine-garden-chinese-knot-crochet/2026-11-30/
LOCATION:Sunshine Garden\, 611 S Lane St\, Seattle\, WA\, 98104
ATTACH;FMTTYPE=image/png:https://cisc-seattle.org/wp-content/uploads/2026/01/ChineseKnot.png
END:VEVENT
BEGIN:VEVENT
DTSTART;TZID=America/Los_Angeles:20261201T093000
DTEND;TZID=America/Los_Angeles:20261201T140000
DTSTAMP:20260424T091510
CREATED:20260102T222131Z
LAST-MODIFIED:20260102T222131Z
UID:10000290-1796117400-1796133600@cisc-seattle.org
SUMMARY:Russian-Speaking Senior Day Program (Bellevue)
DESCRIPTION:Participants enjoy a welcoming\, supportive environment with access to resources and culturally-relevant programming. The program operates Tuesdays and Fridays at the North Bellevue Community Center. Our team members design activities that will promote health\, social connections\, well-being\, and quality of life. This program is funded by the City of Bellevue and Amazon. \nLanguages: Russian\, Ukrainian \nAges: Older Adults \nHolidays may affect operating hours.
URL:https://cisc-seattle.org/event/russian-speaking-senior-day-program-bellevue/2026-12-01/
LOCATION:North Bellevue Community Center\, 4063 148th Ave NE\, Bellevue\, 98007\, United States
CATEGORIES:Older Adult Activities
ATTACH;FMTTYPE=image/jpeg:https://cisc-seattle.org/wp-content/uploads/2024/12/Senior-Day-Program.jpeg
END:VEVENT
BEGIN:VEVENT
DTSTART;TZID=America/Los_Angeles:20261202T103000
DTEND;TZID=America/Los_Angeles:20261202T113000
DTSTAMP:20260424T091510
CREATED:20260102T222615Z
LAST-MODIFIED:20260102T222615Z
UID:10000324-1796207400-1796211000@cisc-seattle.org
SUMMARY:Sunshine Garden: Basic Yoga
DESCRIPTION:Learn and practice basic yoga with our instructor and participants. \nNote: Check our monthly Sunshine Garden calendar to confirm the class schedule prior to attending. \nSunshine Garden Archives – Chinese Information and Service Center
URL:https://cisc-seattle.org/event/sunshine-garden-basic-yoga-3-2/2026-12-02/
LOCATION:Sunshine Garden\, 611 S Lane St\, Seattle\, WA\, 98104
ATTACH;FMTTYPE=image/jpeg:https://cisc-seattle.org/wp-content/uploads/2025/03/yoga-mats.jpg
END:VEVENT
BEGIN:VEVENT
DTSTART;TZID=America/Los_Angeles:20261204T093000
DTEND;TZID=America/Los_Angeles:20261204T140000
DTSTAMP:20260424T091510
CREATED:20260102T222131Z
LAST-MODIFIED:20260102T222131Z
UID:10000291-1796376600-1796392800@cisc-seattle.org
SUMMARY:Russian-Speaking Senior Day Program (Bellevue)
DESCRIPTION:Participants enjoy a welcoming\, supportive environment with access to resources and culturally-relevant programming. The program operates Tuesdays and Fridays at the North Bellevue Community Center. Our team members design activities that will promote health\, social connections\, well-being\, and quality of life. This program is funded by the City of Bellevue and Amazon. \nLanguages: Russian\, Ukrainian \nAges: Older Adults \nHolidays may affect operating hours.
URL:https://cisc-seattle.org/event/russian-speaking-senior-day-program-bellevue/2026-12-04/
LOCATION:North Bellevue Community Center\, 4063 148th Ave NE\, Bellevue\, 98007\, United States
CATEGORIES:Older Adult Activities
ATTACH;FMTTYPE=image/jpeg:https://cisc-seattle.org/wp-content/uploads/2024/12/Senior-Day-Program.jpeg
END:VEVENT
BEGIN:VEVENT
DTSTART;TZID=America/Los_Angeles:20261204T130000
DTEND;TZID=America/Los_Angeles:20261204T140000
DTSTAMP:20260424T091510
CREATED:20260102T222847Z
LAST-MODIFIED:20260102T222847Z
UID:10000395-1796389200-1796392800@cisc-seattle.org
SUMMARY:Sunshine Garden: Tech Help
DESCRIPTION:Looking for help to learn more about your smartphone or tablet? Sunshine Garden Chinese Senior Community Center is offering drop-in technology help each week. Join us to learn how you can stay connected to family and friends\, use translation apps\, and much more. \nPlease check the Sunshine Garden calendar for the most updated schedule. \n 
URL:https://cisc-seattle.org/event/sunshine-garden-tech-help-5/2026-12-04/
LOCATION:Sunshine Garden\, 611 S Lane St\, Seattle\, WA\, 98104
CATEGORIES:Older Adult Activities
ATTACH;FMTTYPE=image/jpeg:https://cisc-seattle.org/wp-content/uploads/2024/12/pexels-thepaintedsquare-583842-scaled.jpg
ORGANIZER;CN="CISC":MAILTO:info@cisc-seattle.org
END:VEVENT
BEGIN:VEVENT
DTSTART;TZID=America/Los_Angeles:20261207T130000
DTEND;TZID=America/Los_Angeles:20261207T140000
DTSTAMP:20260424T091510
CREATED:20260102T235317Z
LAST-MODIFIED:20260102T235317Z
UID:10000551-1796648400-1796652000@cisc-seattle.org
SUMMARY:Sunshine Garden: Chinese Knot Crochet
DESCRIPTION:Learn and practice Chinese knot crochet skills with our instructor and participants. \nNote: Check our monthly Sunshine Garden calendar to confirm the class schedule prior to attending. \nSunshine Garden Archives – Chinese Information and Service Center
URL:https://cisc-seattle.org/event/sunshine-garden-chinese-knot-crochet/2026-12-07/
LOCATION:Sunshine Garden\, 611 S Lane St\, Seattle\, WA\, 98104
ATTACH;FMTTYPE=image/png:https://cisc-seattle.org/wp-content/uploads/2026/01/ChineseKnot.png
END:VEVENT
BEGIN:VEVENT
DTSTART;TZID=America/Los_Angeles:20261208T093000
DTEND;TZID=America/Los_Angeles:20261208T140000
DTSTAMP:20260424T091510
CREATED:20260102T222131Z
LAST-MODIFIED:20260102T222131Z
UID:10000292-1796722200-1796738400@cisc-seattle.org
SUMMARY:Russian-Speaking Senior Day Program (Bellevue)
DESCRIPTION:Participants enjoy a welcoming\, supportive environment with access to resources and culturally-relevant programming. The program operates Tuesdays and Fridays at the North Bellevue Community Center. Our team members design activities that will promote health\, social connections\, well-being\, and quality of life. This program is funded by the City of Bellevue and Amazon. \nLanguages: Russian\, Ukrainian \nAges: Older Adults \nHolidays may affect operating hours.
URL:https://cisc-seattle.org/event/russian-speaking-senior-day-program-bellevue/2026-12-08/
LOCATION:North Bellevue Community Center\, 4063 148th Ave NE\, Bellevue\, 98007\, United States
CATEGORIES:Older Adult Activities
ATTACH;FMTTYPE=image/jpeg:https://cisc-seattle.org/wp-content/uploads/2024/12/Senior-Day-Program.jpeg
END:VEVENT
BEGIN:VEVENT
DTSTART;TZID=America/Los_Angeles:20261209T103000
DTEND;TZID=America/Los_Angeles:20261209T113000
DTSTAMP:20260424T091510
CREATED:20260102T222615Z
LAST-MODIFIED:20260102T222615Z
UID:10000325-1796812200-1796815800@cisc-seattle.org
SUMMARY:Sunshine Garden: Basic Yoga
DESCRIPTION:Learn and practice basic yoga with our instructor and participants. \nNote: Check our monthly Sunshine Garden calendar to confirm the class schedule prior to attending. \nSunshine Garden Archives – Chinese Information and Service Center
URL:https://cisc-seattle.org/event/sunshine-garden-basic-yoga-3-2/2026-12-09/
LOCATION:Sunshine Garden\, 611 S Lane St\, Seattle\, WA\, 98104
ATTACH;FMTTYPE=image/jpeg:https://cisc-seattle.org/wp-content/uploads/2025/03/yoga-mats.jpg
END:VEVENT
BEGIN:VEVENT
DTSTART;TZID=America/Los_Angeles:20261211T093000
DTEND;TZID=America/Los_Angeles:20261211T140000
DTSTAMP:20260424T091510
CREATED:20260102T222131Z
LAST-MODIFIED:20260102T222131Z
UID:10000293-1796981400-1796997600@cisc-seattle.org
SUMMARY:Russian-Speaking Senior Day Program (Bellevue)
DESCRIPTION:Participants enjoy a welcoming\, supportive environment with access to resources and culturally-relevant programming. The program operates Tuesdays and Fridays at the North Bellevue Community Center. Our team members design activities that will promote health\, social connections\, well-being\, and quality of life. This program is funded by the City of Bellevue and Amazon. \nLanguages: Russian\, Ukrainian \nAges: Older Adults \nHolidays may affect operating hours.
URL:https://cisc-seattle.org/event/russian-speaking-senior-day-program-bellevue/2026-12-11/
LOCATION:North Bellevue Community Center\, 4063 148th Ave NE\, Bellevue\, 98007\, United States
CATEGORIES:Older Adult Activities
ATTACH;FMTTYPE=image/jpeg:https://cisc-seattle.org/wp-content/uploads/2024/12/Senior-Day-Program.jpeg
END:VEVENT
BEGIN:VEVENT
DTSTART;TZID=America/Los_Angeles:20261211T130000
DTEND;TZID=America/Los_Angeles:20261211T140000
DTSTAMP:20260424T091510
CREATED:20260102T222847Z
LAST-MODIFIED:20260102T222847Z
UID:10000396-1796994000-1796997600@cisc-seattle.org
SUMMARY:Sunshine Garden: Tech Help
DESCRIPTION:Looking for help to learn more about your smartphone or tablet? Sunshine Garden Chinese Senior Community Center is offering drop-in technology help each week. Join us to learn how you can stay connected to family and friends\, use translation apps\, and much more. \nPlease check the Sunshine Garden calendar for the most updated schedule. \n 
URL:https://cisc-seattle.org/event/sunshine-garden-tech-help-5/2026-12-11/
LOCATION:Sunshine Garden\, 611 S Lane St\, Seattle\, WA\, 98104
CATEGORIES:Older Adult Activities
ATTACH;FMTTYPE=image/jpeg:https://cisc-seattle.org/wp-content/uploads/2024/12/pexels-thepaintedsquare-583842-scaled.jpg
ORGANIZER;CN="CISC":MAILTO:info@cisc-seattle.org
END:VEVENT
BEGIN:VEVENT
DTSTART;TZID=America/Los_Angeles:20261214T130000
DTEND;TZID=America/Los_Angeles:20261214T140000
DTSTAMP:20260424T091510
CREATED:20260102T235317Z
LAST-MODIFIED:20260102T235317Z
UID:10000552-1797253200-1797256800@cisc-seattle.org
SUMMARY:Sunshine Garden: Chinese Knot Crochet
DESCRIPTION:Learn and practice Chinese knot crochet skills with our instructor and participants. \nNote: Check our monthly Sunshine Garden calendar to confirm the class schedule prior to attending. \nSunshine Garden Archives – Chinese Information and Service Center
URL:https://cisc-seattle.org/event/sunshine-garden-chinese-knot-crochet/2026-12-14/
LOCATION:Sunshine Garden\, 611 S Lane St\, Seattle\, WA\, 98104
ATTACH;FMTTYPE=image/png:https://cisc-seattle.org/wp-content/uploads/2026/01/ChineseKnot.png
END:VEVENT
BEGIN:VEVENT
DTSTART;TZID=America/Los_Angeles:20261215T093000
DTEND;TZID=America/Los_Angeles:20261215T140000
DTSTAMP:20260424T091510
CREATED:20260102T222131Z
LAST-MODIFIED:20260102T222131Z
UID:10000294-1797327000-1797343200@cisc-seattle.org
SUMMARY:Russian-Speaking Senior Day Program (Bellevue)
DESCRIPTION:Participants enjoy a welcoming\, supportive environment with access to resources and culturally-relevant programming. The program operates Tuesdays and Fridays at the North Bellevue Community Center. Our team members design activities that will promote health\, social connections\, well-being\, and quality of life. This program is funded by the City of Bellevue and Amazon. \nLanguages: Russian\, Ukrainian \nAges: Older Adults \nHolidays may affect operating hours.
URL:https://cisc-seattle.org/event/russian-speaking-senior-day-program-bellevue/2026-12-15/
LOCATION:North Bellevue Community Center\, 4063 148th Ave NE\, Bellevue\, 98007\, United States
CATEGORIES:Older Adult Activities
ATTACH;FMTTYPE=image/jpeg:https://cisc-seattle.org/wp-content/uploads/2024/12/Senior-Day-Program.jpeg
END:VEVENT
BEGIN:VEVENT
DTSTART;TZID=America/Los_Angeles:20261216T103000
DTEND;TZID=America/Los_Angeles:20261216T113000
DTSTAMP:20260424T091510
CREATED:20260102T222615Z
LAST-MODIFIED:20260102T222615Z
UID:10000326-1797417000-1797420600@cisc-seattle.org
SUMMARY:Sunshine Garden: Basic Yoga
DESCRIPTION:Learn and practice basic yoga with our instructor and participants. \nNote: Check our monthly Sunshine Garden calendar to confirm the class schedule prior to attending. \nSunshine Garden Archives – Chinese Information and Service Center
URL:https://cisc-seattle.org/event/sunshine-garden-basic-yoga-3-2/2026-12-16/
LOCATION:Sunshine Garden\, 611 S Lane St\, Seattle\, WA\, 98104
ATTACH;FMTTYPE=image/jpeg:https://cisc-seattle.org/wp-content/uploads/2025/03/yoga-mats.jpg
END:VEVENT
BEGIN:VEVENT
DTSTART;TZID=America/Los_Angeles:20261218T093000
DTEND;TZID=America/Los_Angeles:20261218T140000
DTSTAMP:20260424T091510
CREATED:20260102T222131Z
LAST-MODIFIED:20260102T222131Z
UID:10000295-1797586200-1797602400@cisc-seattle.org
SUMMARY:Russian-Speaking Senior Day Program (Bellevue)
DESCRIPTION:Participants enjoy a welcoming\, supportive environment with access to resources and culturally-relevant programming. The program operates Tuesdays and Fridays at the North Bellevue Community Center. Our team members design activities that will promote health\, social connections\, well-being\, and quality of life. This program is funded by the City of Bellevue and Amazon. \nLanguages: Russian\, Ukrainian \nAges: Older Adults \nHolidays may affect operating hours.
URL:https://cisc-seattle.org/event/russian-speaking-senior-day-program-bellevue/2026-12-18/
LOCATION:North Bellevue Community Center\, 4063 148th Ave NE\, Bellevue\, 98007\, United States
CATEGORIES:Older Adult Activities
ATTACH;FMTTYPE=image/jpeg:https://cisc-seattle.org/wp-content/uploads/2024/12/Senior-Day-Program.jpeg
END:VEVENT
BEGIN:VEVENT
DTSTART;TZID=America/Los_Angeles:20261218T130000
DTEND;TZID=America/Los_Angeles:20261218T140000
DTSTAMP:20260424T091510
CREATED:20260102T222847Z
LAST-MODIFIED:20260102T222847Z
UID:10000397-1797598800-1797602400@cisc-seattle.org
SUMMARY:Sunshine Garden: Tech Help
DESCRIPTION:Looking for help to learn more about your smartphone or tablet? Sunshine Garden Chinese Senior Community Center is offering drop-in technology help each week. Join us to learn how you can stay connected to family and friends\, use translation apps\, and much more. \nPlease check the Sunshine Garden calendar for the most updated schedule. \n 
URL:https://cisc-seattle.org/event/sunshine-garden-tech-help-5/2026-12-18/
LOCATION:Sunshine Garden\, 611 S Lane St\, Seattle\, WA\, 98104
CATEGORIES:Older Adult Activities
ATTACH;FMTTYPE=image/jpeg:https://cisc-seattle.org/wp-content/uploads/2024/12/pexels-thepaintedsquare-583842-scaled.jpg
ORGANIZER;CN="CISC":MAILTO:info@cisc-seattle.org
END:VEVENT
BEGIN:VEVENT
DTSTART;TZID=America/Los_Angeles:20261221T130000
DTEND;TZID=America/Los_Angeles:20261221T140000
DTSTAMP:20260424T091510
CREATED:20260102T235317Z
LAST-MODIFIED:20260102T235317Z
UID:10000553-1797858000-1797861600@cisc-seattle.org
SUMMARY:Sunshine Garden: Chinese Knot Crochet
DESCRIPTION:Learn and practice Chinese knot crochet skills with our instructor and participants. \nNote: Check our monthly Sunshine Garden calendar to confirm the class schedule prior to attending. \nSunshine Garden Archives – Chinese Information and Service Center
URL:https://cisc-seattle.org/event/sunshine-garden-chinese-knot-crochet/2026-12-21/
LOCATION:Sunshine Garden\, 611 S Lane St\, Seattle\, WA\, 98104
ATTACH;FMTTYPE=image/png:https://cisc-seattle.org/wp-content/uploads/2026/01/ChineseKnot.png
END:VEVENT
BEGIN:VEVENT
DTSTART;TZID=America/Los_Angeles:20261222T093000
DTEND;TZID=America/Los_Angeles:20261222T140000
DTSTAMP:20260424T091510
CREATED:20260102T222131Z
LAST-MODIFIED:20260102T222131Z
UID:10000296-1797931800-1797948000@cisc-seattle.org
SUMMARY:Russian-Speaking Senior Day Program (Bellevue)
DESCRIPTION:Participants enjoy a welcoming\, supportive environment with access to resources and culturally-relevant programming. The program operates Tuesdays and Fridays at the North Bellevue Community Center. Our team members design activities that will promote health\, social connections\, well-being\, and quality of life. This program is funded by the City of Bellevue and Amazon. \nLanguages: Russian\, Ukrainian \nAges: Older Adults \nHolidays may affect operating hours.
URL:https://cisc-seattle.org/event/russian-speaking-senior-day-program-bellevue/2026-12-22/
LOCATION:North Bellevue Community Center\, 4063 148th Ave NE\, Bellevue\, 98007\, United States
CATEGORIES:Older Adult Activities
ATTACH;FMTTYPE=image/jpeg:https://cisc-seattle.org/wp-content/uploads/2024/12/Senior-Day-Program.jpeg
END:VEVENT
BEGIN:VEVENT
DTSTART;TZID=America/Los_Angeles:20261223T103000
DTEND;TZID=America/Los_Angeles:20261223T113000
DTSTAMP:20260424T091510
CREATED:20260102T222615Z
LAST-MODIFIED:20260102T222615Z
UID:10000327-1798021800-1798025400@cisc-seattle.org
SUMMARY:Sunshine Garden: Basic Yoga
DESCRIPTION:Learn and practice basic yoga with our instructor and participants. \nNote: Check our monthly Sunshine Garden calendar to confirm the class schedule prior to attending. \nSunshine Garden Archives – Chinese Information and Service Center
URL:https://cisc-seattle.org/event/sunshine-garden-basic-yoga-3-2/2026-12-23/
LOCATION:Sunshine Garden\, 611 S Lane St\, Seattle\, WA\, 98104
ATTACH;FMTTYPE=image/jpeg:https://cisc-seattle.org/wp-content/uploads/2025/03/yoga-mats.jpg
END:VEVENT
BEGIN:VEVENT
DTSTART;TZID=America/Los_Angeles:20261225T130000
DTEND;TZID=America/Los_Angeles:20261225T140000
DTSTAMP:20260424T091510
CREATED:20260102T222847Z
LAST-MODIFIED:20260102T222847Z
UID:10000398-1798203600-1798207200@cisc-seattle.org
SUMMARY:Sunshine Garden: Tech Help
DESCRIPTION:Looking for help to learn more about your smartphone or tablet? Sunshine Garden Chinese Senior Community Center is offering drop-in technology help each week. Join us to learn how you can stay connected to family and friends\, use translation apps\, and much more. \nPlease check the Sunshine Garden calendar for the most updated schedule. \n 
URL:https://cisc-seattle.org/event/sunshine-garden-tech-help-5/2026-12-25/
LOCATION:Sunshine Garden\, 611 S Lane St\, Seattle\, WA\, 98104
CATEGORIES:Older Adult Activities
ATTACH;FMTTYPE=image/jpeg:https://cisc-seattle.org/wp-content/uploads/2024/12/pexels-thepaintedsquare-583842-scaled.jpg
ORGANIZER;CN="CISC":MAILTO:info@cisc-seattle.org
END:VEVENT
BEGIN:VEVENT
DTSTART;TZID=America/Los_Angeles:20261228T130000
DTEND;TZID=America/Los_Angeles:20261228T140000
DTSTAMP:20260424T091510
CREATED:20260102T235317Z
LAST-MODIFIED:20260102T235317Z
UID:10000554-1798462800-1798466400@cisc-seattle.org
SUMMARY:Sunshine Garden: Chinese Knot Crochet
DESCRIPTION:Learn and practice Chinese knot crochet skills with our instructor and participants. \nNote: Check our monthly Sunshine Garden calendar to confirm the class schedule prior to attending. \nSunshine Garden Archives – Chinese Information and Service Center
URL:https://cisc-seattle.org/event/sunshine-garden-chinese-knot-crochet/2026-12-28/
LOCATION:Sunshine Garden\, 611 S Lane St\, Seattle\, WA\, 98104
ATTACH;FMTTYPE=image/png:https://cisc-seattle.org/wp-content/uploads/2026/01/ChineseKnot.png
END:VEVENT
BEGIN:VEVENT
DTSTART;TZID=America/Los_Angeles:20261229T093000
DTEND;TZID=America/Los_Angeles:20261229T140000
DTSTAMP:20260424T091510
CREATED:20260102T222131Z
LAST-MODIFIED:20260102T222131Z
UID:10000297-1798536600-1798552800@cisc-seattle.org
SUMMARY:Russian-Speaking Senior Day Program (Bellevue)
DESCRIPTION:Participants enjoy a welcoming\, supportive environment with access to resources and culturally-relevant programming. The program operates Tuesdays and Fridays at the North Bellevue Community Center. Our team members design activities that will promote health\, social connections\, well-being\, and quality of life. This program is funded by the City of Bellevue and Amazon. \nLanguages: Russian\, Ukrainian \nAges: Older Adults \nHolidays may affect operating hours.
URL:https://cisc-seattle.org/event/russian-speaking-senior-day-program-bellevue/2026-12-29/
LOCATION:North Bellevue Community Center\, 4063 148th Ave NE\, Bellevue\, 98007\, United States
CATEGORIES:Older Adult Activities
ATTACH;FMTTYPE=image/jpeg:https://cisc-seattle.org/wp-content/uploads/2024/12/Senior-Day-Program.jpeg
END:VEVENT
BEGIN:VEVENT
DTSTART;TZID=America/Los_Angeles:20261230T103000
DTEND;TZID=America/Los_Angeles:20261230T113000
DTSTAMP:20260424T091510
CREATED:20260102T222615Z
LAST-MODIFIED:20260102T222615Z
UID:10000328-1798626600-1798630200@cisc-seattle.org
SUMMARY:Sunshine Garden: Basic Yoga
DESCRIPTION:Learn and practice basic yoga with our instructor and participants. \nNote: Check our monthly Sunshine Garden calendar to confirm the class schedule prior to attending. \nSunshine Garden Archives – Chinese Information and Service Center
URL:https://cisc-seattle.org/event/sunshine-garden-basic-yoga-3-2/2026-12-30/
LOCATION:Sunshine Garden\, 611 S Lane St\, Seattle\, WA\, 98104
ATTACH;FMTTYPE=image/jpeg:https://cisc-seattle.org/wp-content/uploads/2025/03/yoga-mats.jpg
END:VEVENT
END:VCALENDAR