BEGIN:VCALENDAR
VERSION:2.0
PRODID:-//CISC - ECPv6.15.20//NONSGML v1.0//EN
CALSCALE:GREGORIAN
METHOD:PUBLISH
X-WR-CALNAME:CISC
X-ORIGINAL-URL:https://cisc-seattle.org
X-WR-CALDESC:Events for CISC
REFRESH-INTERVAL;VALUE=DURATION:PT1H
X-Robots-Tag:noindex
X-PUBLISHED-TTL:PT1H
BEGIN:VTIMEZONE
TZID:America/Los_Angeles
BEGIN:DAYLIGHT
TZOFFSETFROM:-0800
TZOFFSETTO:-0700
TZNAME:PDT
DTSTART:20240310T100000
END:DAYLIGHT
BEGIN:STANDARD
TZOFFSETFROM:-0700
TZOFFSETTO:-0800
TZNAME:PST
DTSTART:20241103T090000
END:STANDARD
BEGIN:DAYLIGHT
TZOFFSETFROM:-0800
TZOFFSETTO:-0700
TZNAME:PDT
DTSTART:20250309T100000
END:DAYLIGHT
BEGIN:STANDARD
TZOFFSETFROM:-0700
TZOFFSETTO:-0800
TZNAME:PST
DTSTART:20251102T090000
END:STANDARD
BEGIN:DAYLIGHT
TZOFFSETFROM:-0800
TZOFFSETTO:-0700
TZNAME:PDT
DTSTART:20260308T100000
END:DAYLIGHT
BEGIN:STANDARD
TZOFFSETFROM:-0700
TZOFFSETTO:-0800
TZNAME:PST
DTSTART:20261101T090000
END:STANDARD
END:VTIMEZONE
BEGIN:VEVENT
DTSTART;TZID=America/Los_Angeles:20250530T093000
DTEND;TZID=America/Los_Angeles:20250530T140000
DTSTAMP:20260424T205315
CREATED:20250319T214349Z
LAST-MODIFIED:20250702T164033Z
UID:10000034-1748597400-1748613600@cisc-seattle.org
SUMMARY:Russian-Speaking Senior Day Program (Bellevue)
DESCRIPTION:Participants enjoy a welcoming\, supportive environment with access to resources and culturally-relevant programming. The program operates Tuesdays and Fridays at the North Bellevue Community Center. Our team members design activities that will promote health\, social connections\, well-being\, and quality of life. This program is funded by the City of Bellevue and Amazon. \nLanguages: Russian\, Ukrainian \nAges: Older Adults \nHolidays may affect operating hours.
URL:https://cisc-seattle.org/event/russian-speaking-senior-day-program-2/2025-05-30/
LOCATION:North Bellevue Community Center\, 4063 148th Ave NE\, Bellevue\, 98007\, United States
CATEGORIES:Older Adult Activities
ATTACH;FMTTYPE=image/jpeg:https://cisc-seattle.org/wp-content/uploads/2024/12/Senior-Day-Program.jpeg
END:VEVENT
BEGIN:VEVENT
DTSTART;TZID=America/Los_Angeles:20250528T103000
DTEND;TZID=America/Los_Angeles:20250528T113000
DTSTAMP:20260424T205315
CREATED:20250502T005219Z
LAST-MODIFIED:20250502T005219Z
UID:10000116-1748428200-1748431800@cisc-seattle.org
SUMMARY:Sunshine Garden: Basic Yoga
DESCRIPTION:Learn and practice basic yoga with our instructor and participants.
URL:https://cisc-seattle.org/event/sunshine-garden-basic-yoga-3/2025-05-28/
LOCATION:Sunshine Garden\, 611 S Lane St\, Seattle\, WA\, 98104
ATTACH;FMTTYPE=image/jpeg:https://cisc-seattle.org/wp-content/uploads/2025/03/yoga-mats.jpg
END:VEVENT
BEGIN:VEVENT
DTSTART;TZID=America/Los_Angeles:20250527T093000
DTEND;TZID=America/Los_Angeles:20250527T140000
DTSTAMP:20260424T205315
CREATED:20250319T214349Z
LAST-MODIFIED:20250702T164033Z
UID:10000033-1748338200-1748354400@cisc-seattle.org
SUMMARY:Russian-Speaking Senior Day Program (Bellevue)
DESCRIPTION:Participants enjoy a welcoming\, supportive environment with access to resources and culturally-relevant programming. The program operates Tuesdays and Fridays at the North Bellevue Community Center. Our team members design activities that will promote health\, social connections\, well-being\, and quality of life. This program is funded by the City of Bellevue and Amazon. \nLanguages: Russian\, Ukrainian \nAges: Older Adults \nHolidays may affect operating hours.
URL:https://cisc-seattle.org/event/russian-speaking-senior-day-program-2/2025-05-27/
LOCATION:North Bellevue Community Center\, 4063 148th Ave NE\, Bellevue\, 98007\, United States
CATEGORIES:Older Adult Activities
ATTACH;FMTTYPE=image/jpeg:https://cisc-seattle.org/wp-content/uploads/2024/12/Senior-Day-Program.jpeg
END:VEVENT
BEGIN:VEVENT
DTSTART;TZID=America/Los_Angeles:20250523T093000
DTEND;TZID=America/Los_Angeles:20250523T140000
DTSTAMP:20260424T205315
CREATED:20250319T214349Z
LAST-MODIFIED:20250702T164033Z
UID:10000032-1747992600-1748008800@cisc-seattle.org
SUMMARY:Russian-Speaking Senior Day Program (Bellevue)
DESCRIPTION:Participants enjoy a welcoming\, supportive environment with access to resources and culturally-relevant programming. The program operates Tuesdays and Fridays at the North Bellevue Community Center. Our team members design activities that will promote health\, social connections\, well-being\, and quality of life. This program is funded by the City of Bellevue and Amazon. \nLanguages: Russian\, Ukrainian \nAges: Older Adults \nHolidays may affect operating hours.
URL:https://cisc-seattle.org/event/russian-speaking-senior-day-program-2/2025-05-23/
LOCATION:North Bellevue Community Center\, 4063 148th Ave NE\, Bellevue\, 98007\, United States
CATEGORIES:Older Adult Activities
ATTACH;FMTTYPE=image/jpeg:https://cisc-seattle.org/wp-content/uploads/2024/12/Senior-Day-Program.jpeg
END:VEVENT
BEGIN:VEVENT
DTSTART;TZID=America/Los_Angeles:20250521T103000
DTEND;TZID=America/Los_Angeles:20250521T113000
DTSTAMP:20260424T205315
CREATED:20250502T005219Z
LAST-MODIFIED:20250502T005219Z
UID:10000115-1747823400-1747827000@cisc-seattle.org
SUMMARY:Sunshine Garden: Basic Yoga
DESCRIPTION:Learn and practice basic yoga with our instructor and participants.
URL:https://cisc-seattle.org/event/sunshine-garden-basic-yoga-3/2025-05-21/
LOCATION:Sunshine Garden\, 611 S Lane St\, Seattle\, WA\, 98104
ATTACH;FMTTYPE=image/jpeg:https://cisc-seattle.org/wp-content/uploads/2025/03/yoga-mats.jpg
END:VEVENT
BEGIN:VEVENT
DTSTART;TZID=America/Los_Angeles:20250521T100000
DTEND;TZID=America/Los_Angeles:20250521T123000
DTSTAMP:20260424T205315
CREATED:20250513T181819Z
LAST-MODIFIED:20250513T181819Z
UID:10000169-1747821600-1747830600@cisc-seattle.org
SUMMARY:CISC Community Health and Resource Fair
DESCRIPTION:The 2025 CISC Community Health and Resource Fair will be held on Wednesday\, May 21 from 10am – 12:30pm at the North Bellevue Community Center. Every year\, our resource fair brings more than 300 community members together and connects them to a wide variety of community resources and services that support their needs\, such as:\n\nFree flu shots\nWellness checks and screenings\nHealth insurance consultations\nHealth and wellness workshops\n30+ community organizations\nOn-site interpretation support\nDoor prizes\n\nFlyers \n\nEnglish\nChinese\nRussian
URL:https://cisc-seattle.org/event/cisc-community-health-and-resource-fair/
LOCATION:North Bellevue Community Center\, 4063 148th Ave NE\, Bellevue\, 98007\, United States
ATTACH;FMTTYPE=image/png:https://cisc-seattle.org/wp-content/uploads/2025/05/2025-Health-Fair_English-Final.png
END:VEVENT
BEGIN:VEVENT
DTSTART;TZID=America/Los_Angeles:20250520T093000
DTEND;TZID=America/Los_Angeles:20250520T140000
DTSTAMP:20260424T205315
CREATED:20250319T214349Z
LAST-MODIFIED:20250702T164033Z
UID:10000031-1747733400-1747749600@cisc-seattle.org
SUMMARY:Russian-Speaking Senior Day Program (Bellevue)
DESCRIPTION:Participants enjoy a welcoming\, supportive environment with access to resources and culturally-relevant programming. The program operates Tuesdays and Fridays at the North Bellevue Community Center. Our team members design activities that will promote health\, social connections\, well-being\, and quality of life. This program is funded by the City of Bellevue and Amazon. \nLanguages: Russian\, Ukrainian \nAges: Older Adults \nHolidays may affect operating hours.
URL:https://cisc-seattle.org/event/russian-speaking-senior-day-program-2/2025-05-20/
LOCATION:North Bellevue Community Center\, 4063 148th Ave NE\, Bellevue\, 98007\, United States
CATEGORIES:Older Adult Activities
ATTACH;FMTTYPE=image/jpeg:https://cisc-seattle.org/wp-content/uploads/2024/12/Senior-Day-Program.jpeg
END:VEVENT
BEGIN:VEVENT
DTSTART;TZID=America/Los_Angeles:20250516T093000
DTEND;TZID=America/Los_Angeles:20250516T140000
DTSTAMP:20260424T205315
CREATED:20250319T214349Z
LAST-MODIFIED:20250702T164033Z
UID:10000030-1747387800-1747404000@cisc-seattle.org
SUMMARY:Russian-Speaking Senior Day Program (Bellevue)
DESCRIPTION:Participants enjoy a welcoming\, supportive environment with access to resources and culturally-relevant programming. The program operates Tuesdays and Fridays at the North Bellevue Community Center. Our team members design activities that will promote health\, social connections\, well-being\, and quality of life. This program is funded by the City of Bellevue and Amazon. \nLanguages: Russian\, Ukrainian \nAges: Older Adults \nHolidays may affect operating hours.
URL:https://cisc-seattle.org/event/russian-speaking-senior-day-program-2/2025-05-16/
LOCATION:North Bellevue Community Center\, 4063 148th Ave NE\, Bellevue\, 98007\, United States
CATEGORIES:Older Adult Activities
ATTACH;FMTTYPE=image/jpeg:https://cisc-seattle.org/wp-content/uploads/2024/12/Senior-Day-Program.jpeg
END:VEVENT
BEGIN:VEVENT
DTSTART;TZID=America/Los_Angeles:20250514T103000
DTEND;TZID=America/Los_Angeles:20250514T113000
DTSTAMP:20260424T205315
CREATED:20250502T005219Z
LAST-MODIFIED:20250502T005219Z
UID:10000114-1747218600-1747222200@cisc-seattle.org
SUMMARY:Sunshine Garden: Basic Yoga
DESCRIPTION:Learn and practice basic yoga with our instructor and participants.
URL:https://cisc-seattle.org/event/sunshine-garden-basic-yoga-3/2025-05-14/
LOCATION:Sunshine Garden\, 611 S Lane St\, Seattle\, WA\, 98104
ATTACH;FMTTYPE=image/jpeg:https://cisc-seattle.org/wp-content/uploads/2025/03/yoga-mats.jpg
END:VEVENT
BEGIN:VEVENT
DTSTART;TZID=America/Los_Angeles:20250513T093000
DTEND;TZID=America/Los_Angeles:20250513T140000
DTSTAMP:20260424T205315
CREATED:20250319T214349Z
LAST-MODIFIED:20250702T164033Z
UID:10000029-1747128600-1747144800@cisc-seattle.org
SUMMARY:Russian-Speaking Senior Day Program (Bellevue)
DESCRIPTION:Participants enjoy a welcoming\, supportive environment with access to resources and culturally-relevant programming. The program operates Tuesdays and Fridays at the North Bellevue Community Center. Our team members design activities that will promote health\, social connections\, well-being\, and quality of life. This program is funded by the City of Bellevue and Amazon. \nLanguages: Russian\, Ukrainian \nAges: Older Adults \nHolidays may affect operating hours.
URL:https://cisc-seattle.org/event/russian-speaking-senior-day-program-2/2025-05-13/
LOCATION:North Bellevue Community Center\, 4063 148th Ave NE\, Bellevue\, 98007\, United States
CATEGORIES:Older Adult Activities
ATTACH;FMTTYPE=image/jpeg:https://cisc-seattle.org/wp-content/uploads/2024/12/Senior-Day-Program.jpeg
END:VEVENT
BEGIN:VEVENT
DTSTART;TZID=America/Los_Angeles:20250509T093000
DTEND;TZID=America/Los_Angeles:20250509T140000
DTSTAMP:20260424T205315
CREATED:20250319T214349Z
LAST-MODIFIED:20250702T164033Z
UID:10000028-1746783000-1746799200@cisc-seattle.org
SUMMARY:Russian-Speaking Senior Day Program (Bellevue)
DESCRIPTION:Participants enjoy a welcoming\, supportive environment with access to resources and culturally-relevant programming. The program operates Tuesdays and Fridays at the North Bellevue Community Center. Our team members design activities that will promote health\, social connections\, well-being\, and quality of life. This program is funded by the City of Bellevue and Amazon. \nLanguages: Russian\, Ukrainian \nAges: Older Adults \nHolidays may affect operating hours.
URL:https://cisc-seattle.org/event/russian-speaking-senior-day-program-2/2025-05-09/
LOCATION:North Bellevue Community Center\, 4063 148th Ave NE\, Bellevue\, 98007\, United States
CATEGORIES:Older Adult Activities
ATTACH;FMTTYPE=image/jpeg:https://cisc-seattle.org/wp-content/uploads/2024/12/Senior-Day-Program.jpeg
END:VEVENT
BEGIN:VEVENT
DTSTART;TZID=America/Los_Angeles:20250507T103000
DTEND;TZID=America/Los_Angeles:20250507T113000
DTSTAMP:20260424T205315
CREATED:20250502T005219Z
LAST-MODIFIED:20250502T005219Z
UID:10000113-1746613800-1746617400@cisc-seattle.org
SUMMARY:Sunshine Garden: Basic Yoga
DESCRIPTION:Learn and practice basic yoga with our instructor and participants.
URL:https://cisc-seattle.org/event/sunshine-garden-basic-yoga-3/2025-05-07/
LOCATION:Sunshine Garden\, 611 S Lane St\, Seattle\, WA\, 98104
ATTACH;FMTTYPE=image/jpeg:https://cisc-seattle.org/wp-content/uploads/2025/03/yoga-mats.jpg
END:VEVENT
BEGIN:VEVENT
DTSTART;TZID=America/Los_Angeles:20250506T093000
DTEND;TZID=America/Los_Angeles:20250506T140000
DTSTAMP:20260424T205315
CREATED:20250319T214349Z
LAST-MODIFIED:20250702T164033Z
UID:10000027-1746523800-1746540000@cisc-seattle.org
SUMMARY:Russian-Speaking Senior Day Program (Bellevue)
DESCRIPTION:Participants enjoy a welcoming\, supportive environment with access to resources and culturally-relevant programming. The program operates Tuesdays and Fridays at the North Bellevue Community Center. Our team members design activities that will promote health\, social connections\, well-being\, and quality of life. This program is funded by the City of Bellevue and Amazon. \nLanguages: Russian\, Ukrainian \nAges: Older Adults \nHolidays may affect operating hours.
URL:https://cisc-seattle.org/event/russian-speaking-senior-day-program-2/2025-05-06/
LOCATION:North Bellevue Community Center\, 4063 148th Ave NE\, Bellevue\, 98007\, United States
CATEGORIES:Older Adult Activities
ATTACH;FMTTYPE=image/jpeg:https://cisc-seattle.org/wp-content/uploads/2024/12/Senior-Day-Program.jpeg
END:VEVENT
BEGIN:VEVENT
DTSTART;TZID=America/Los_Angeles:20250502T130000
DTEND;TZID=America/Los_Angeles:20250502T140000
DTSTAMP:20260424T205315
CREATED:20250502T005018Z
LAST-MODIFIED:20250502T005018Z
UID:10000110-1746190800-1746194400@cisc-seattle.org
SUMMARY:Sunshine Garden: Tech Help
DESCRIPTION:Looking for help to learn more about your smartphone or tablet? Sunshine Garden Chinese Senior Community Center is offering drop-in technology help each week. Join us to learn how you can stay connected to family and friends\, use translation apps\, and much more.
URL:https://cisc-seattle.org/event/sunshine-garden-tech-help-2/2025-05-02/
LOCATION:Sunshine Garden\, 611 S Lane St\, Seattle\, WA\, 98104
CATEGORIES:Older Adult Activities
ATTACH;FMTTYPE=image/jpeg:https://cisc-seattle.org/wp-content/uploads/2024/12/pexels-thepaintedsquare-583842-scaled.jpg
ORGANIZER;CN="CISC":MAILTO:info@cisc-seattle.org
END:VEVENT
BEGIN:VEVENT
DTSTART;TZID=America/Los_Angeles:20250502T093000
DTEND;TZID=America/Los_Angeles:20250502T140000
DTSTAMP:20260424T205315
CREATED:20250319T214349Z
LAST-MODIFIED:20250702T164033Z
UID:10000026-1746178200-1746194400@cisc-seattle.org
SUMMARY:Russian-Speaking Senior Day Program (Bellevue)
DESCRIPTION:Participants enjoy a welcoming\, supportive environment with access to resources and culturally-relevant programming. The program operates Tuesdays and Fridays at the North Bellevue Community Center. Our team members design activities that will promote health\, social connections\, well-being\, and quality of life. This program is funded by the City of Bellevue and Amazon. \nLanguages: Russian\, Ukrainian \nAges: Older Adults \nHolidays may affect operating hours.
URL:https://cisc-seattle.org/event/russian-speaking-senior-day-program-2/2025-05-02/
LOCATION:North Bellevue Community Center\, 4063 148th Ave NE\, Bellevue\, 98007\, United States
CATEGORIES:Older Adult Activities
ATTACH;FMTTYPE=image/jpeg:https://cisc-seattle.org/wp-content/uploads/2024/12/Senior-Day-Program.jpeg
END:VEVENT
BEGIN:VEVENT
DTSTART;TZID=America/Los_Angeles:20250430T103000
DTEND;TZID=America/Los_Angeles:20250430T113000
DTSTAMP:20260424T205315
CREATED:20250402T004256Z
LAST-MODIFIED:20250402T004256Z
UID:10000108-1746009000-1746012600@cisc-seattle.org
SUMMARY:Sunshine Garden: Basic Yoga
DESCRIPTION:Learn and practice basic yoga with our instructor and participants.
URL:https://cisc-seattle.org/event/sunshine-garden-basic-yoga-2/2025-04-30/
LOCATION:Sunshine Garden\, 611 S Lane St\, Seattle\, WA\, 98104
ATTACH;FMTTYPE=image/jpeg:https://cisc-seattle.org/wp-content/uploads/2025/03/yoga-mats.jpg
END:VEVENT
BEGIN:VEVENT
DTSTART;TZID=America/Los_Angeles:20250429T093000
DTEND;TZID=America/Los_Angeles:20250429T140000
DTSTAMP:20260424T205315
CREATED:20250319T214349Z
LAST-MODIFIED:20250702T164033Z
UID:10000025-1745919000-1745935200@cisc-seattle.org
SUMMARY:Russian-Speaking Senior Day Program (Bellevue)
DESCRIPTION:Participants enjoy a welcoming\, supportive environment with access to resources and culturally-relevant programming. The program operates Tuesdays and Fridays at the North Bellevue Community Center. Our team members design activities that will promote health\, social connections\, well-being\, and quality of life. This program is funded by the City of Bellevue and Amazon. \nLanguages: Russian\, Ukrainian \nAges: Older Adults \nHolidays may affect operating hours.
URL:https://cisc-seattle.org/event/russian-speaking-senior-day-program-2/2025-04-29/
LOCATION:North Bellevue Community Center\, 4063 148th Ave NE\, Bellevue\, 98007\, United States
CATEGORIES:Older Adult Activities
ATTACH;FMTTYPE=image/jpeg:https://cisc-seattle.org/wp-content/uploads/2024/12/Senior-Day-Program.jpeg
END:VEVENT
BEGIN:VEVENT
DTSTART;TZID=America/Los_Angeles:20250425T130000
DTEND;TZID=America/Los_Angeles:20250425T140000
DTSTAMP:20260424T205315
CREATED:20250402T004109Z
LAST-MODIFIED:20250402T004109Z
UID:10000102-1745586000-1745589600@cisc-seattle.org
SUMMARY:Sunshine Garden: Tech Help
DESCRIPTION:Looking for help to learn more about your smartphone or tablet? Sunshine Garden Chinese Senior Community Center is offering drop-in technology help each week. Join us to learn how you can stay connected to family and friends\, use translation apps\, and much more.
URL:https://cisc-seattle.org/event/sunshine-garden-tech-help/2025-04-25/
LOCATION:Sunshine Garden\, 611 S Lane St\, Seattle\, WA\, 98104
CATEGORIES:Older Adult Activities
ATTACH;FMTTYPE=image/jpeg:https://cisc-seattle.org/wp-content/uploads/2024/12/pexels-thepaintedsquare-583842-scaled.jpg
ORGANIZER;CN="CISC":MAILTO:info@cisc-seattle.org
END:VEVENT
BEGIN:VEVENT
DTSTART;TZID=America/Los_Angeles:20250425T093000
DTEND;TZID=America/Los_Angeles:20250425T140000
DTSTAMP:20260424T205315
CREATED:20250319T214349Z
LAST-MODIFIED:20250702T164033Z
UID:10000024-1745573400-1745589600@cisc-seattle.org
SUMMARY:Russian-Speaking Senior Day Program (Bellevue)
DESCRIPTION:Participants enjoy a welcoming\, supportive environment with access to resources and culturally-relevant programming. The program operates Tuesdays and Fridays at the North Bellevue Community Center. Our team members design activities that will promote health\, social connections\, well-being\, and quality of life. This program is funded by the City of Bellevue and Amazon. \nLanguages: Russian\, Ukrainian \nAges: Older Adults \nHolidays may affect operating hours.
URL:https://cisc-seattle.org/event/russian-speaking-senior-day-program-2/2025-04-25/
LOCATION:North Bellevue Community Center\, 4063 148th Ave NE\, Bellevue\, 98007\, United States
CATEGORIES:Older Adult Activities
ATTACH;FMTTYPE=image/jpeg:https://cisc-seattle.org/wp-content/uploads/2024/12/Senior-Day-Program.jpeg
END:VEVENT
BEGIN:VEVENT
DTSTART;TZID=America/Los_Angeles:20250423T103000
DTEND;TZID=America/Los_Angeles:20250423T113000
DTSTAMP:20260424T205315
CREATED:20250402T004256Z
LAST-MODIFIED:20250402T004256Z
UID:10000107-1745404200-1745407800@cisc-seattle.org
SUMMARY:Sunshine Garden: Basic Yoga
DESCRIPTION:Learn and practice basic yoga with our instructor and participants.
URL:https://cisc-seattle.org/event/sunshine-garden-basic-yoga-2/2025-04-23/
LOCATION:Sunshine Garden\, 611 S Lane St\, Seattle\, WA\, 98104
ATTACH;FMTTYPE=image/jpeg:https://cisc-seattle.org/wp-content/uploads/2025/03/yoga-mats.jpg
END:VEVENT
BEGIN:VEVENT
DTSTART;TZID=America/Los_Angeles:20250422T093000
DTEND;TZID=America/Los_Angeles:20250422T140000
DTSTAMP:20260424T205315
CREATED:20250319T214349Z
LAST-MODIFIED:20250702T164033Z
UID:10000023-1745314200-1745330400@cisc-seattle.org
SUMMARY:Russian-Speaking Senior Day Program (Bellevue)
DESCRIPTION:Participants enjoy a welcoming\, supportive environment with access to resources and culturally-relevant programming. The program operates Tuesdays and Fridays at the North Bellevue Community Center. Our team members design activities that will promote health\, social connections\, well-being\, and quality of life. This program is funded by the City of Bellevue and Amazon. \nLanguages: Russian\, Ukrainian \nAges: Older Adults \nHolidays may affect operating hours.
URL:https://cisc-seattle.org/event/russian-speaking-senior-day-program-2/2025-04-22/
LOCATION:North Bellevue Community Center\, 4063 148th Ave NE\, Bellevue\, 98007\, United States
CATEGORIES:Older Adult Activities
ATTACH;FMTTYPE=image/jpeg:https://cisc-seattle.org/wp-content/uploads/2024/12/Senior-Day-Program.jpeg
END:VEVENT
BEGIN:VEVENT
DTSTART;TZID=America/Los_Angeles:20250418T130000
DTEND;TZID=America/Los_Angeles:20250418T140000
DTSTAMP:20260424T205315
CREATED:20250402T004109Z
LAST-MODIFIED:20250402T004109Z
UID:10000101-1744981200-1744984800@cisc-seattle.org
SUMMARY:Sunshine Garden: Tech Help
DESCRIPTION:Looking for help to learn more about your smartphone or tablet? Sunshine Garden Chinese Senior Community Center is offering drop-in technology help each week. Join us to learn how you can stay connected to family and friends\, use translation apps\, and much more.
URL:https://cisc-seattle.org/event/sunshine-garden-tech-help/2025-04-18/
LOCATION:Sunshine Garden\, 611 S Lane St\, Seattle\, WA\, 98104
CATEGORIES:Older Adult Activities
ATTACH;FMTTYPE=image/jpeg:https://cisc-seattle.org/wp-content/uploads/2024/12/pexels-thepaintedsquare-583842-scaled.jpg
ORGANIZER;CN="CISC":MAILTO:info@cisc-seattle.org
END:VEVENT
BEGIN:VEVENT
DTSTART;TZID=America/Los_Angeles:20250418T100000
DTEND;TZID=America/Los_Angeles:20250418T120000
DTSTAMP:20260424T205315
CREATED:20250402T003543Z
LAST-MODIFIED:20250402T003543Z
UID:10000097-1744970400-1744977600@cisc-seattle.org
SUMMARY:Community Job Fair
DESCRIPTION:Join us for our Community Job Fair in our Seattle CID Family Resource Center. \n\nExplore different industries and job opportunities\nInformation about Seattle Labor Standards\nWelcome all job seekers\, families\, and friends to join\n\nPlease register to attend: 仁人家庭資源中心-社區招聘日-報名表 CISC Community Job Fair Registration Form \nOr call us at 206-887-4931 \n 
URL:https://cisc-seattle.org/event/community-job-fair/
LOCATION:Family Resource Center (Seattle)\, 611 S Lane Street\, Seattle\, WA\, 98104\, United States
ATTACH;FMTTYPE=image/jpeg:https://cisc-seattle.org/wp-content/uploads/2025/04/jobfair.jpg
END:VEVENT
BEGIN:VEVENT
DTSTART;TZID=America/Los_Angeles:20250418T093000
DTEND;TZID=America/Los_Angeles:20250418T140000
DTSTAMP:20260424T205315
CREATED:20250319T214349Z
LAST-MODIFIED:20250702T164033Z
UID:10000022-1744968600-1744984800@cisc-seattle.org
SUMMARY:Russian-Speaking Senior Day Program (Bellevue)
DESCRIPTION:Participants enjoy a welcoming\, supportive environment with access to resources and culturally-relevant programming. The program operates Tuesdays and Fridays at the North Bellevue Community Center. Our team members design activities that will promote health\, social connections\, well-being\, and quality of life. This program is funded by the City of Bellevue and Amazon. \nLanguages: Russian\, Ukrainian \nAges: Older Adults \nHolidays may affect operating hours.
URL:https://cisc-seattle.org/event/russian-speaking-senior-day-program-2/2025-04-18/
LOCATION:North Bellevue Community Center\, 4063 148th Ave NE\, Bellevue\, 98007\, United States
CATEGORIES:Older Adult Activities
ATTACH;FMTTYPE=image/jpeg:https://cisc-seattle.org/wp-content/uploads/2024/12/Senior-Day-Program.jpeg
END:VEVENT
BEGIN:VEVENT
DTSTART;TZID=America/Los_Angeles:20250416T103000
DTEND;TZID=America/Los_Angeles:20250416T113000
DTSTAMP:20260424T205315
CREATED:20250402T004256Z
LAST-MODIFIED:20250402T004256Z
UID:10000106-1744799400-1744803000@cisc-seattle.org
SUMMARY:Sunshine Garden: Basic Yoga
DESCRIPTION:Learn and practice basic yoga with our instructor and participants.
URL:https://cisc-seattle.org/event/sunshine-garden-basic-yoga-2/2025-04-16/
LOCATION:Sunshine Garden\, 611 S Lane St\, Seattle\, WA\, 98104
ATTACH;FMTTYPE=image/jpeg:https://cisc-seattle.org/wp-content/uploads/2025/03/yoga-mats.jpg
END:VEVENT
BEGIN:VEVENT
DTSTART;TZID=America/Los_Angeles:20250415T093000
DTEND;TZID=America/Los_Angeles:20250415T140000
DTSTAMP:20260424T205315
CREATED:20250319T214349Z
LAST-MODIFIED:20250702T164033Z
UID:10000021-1744709400-1744725600@cisc-seattle.org
SUMMARY:Russian-Speaking Senior Day Program (Bellevue)
DESCRIPTION:Participants enjoy a welcoming\, supportive environment with access to resources and culturally-relevant programming. The program operates Tuesdays and Fridays at the North Bellevue Community Center. Our team members design activities that will promote health\, social connections\, well-being\, and quality of life. This program is funded by the City of Bellevue and Amazon. \nLanguages: Russian\, Ukrainian \nAges: Older Adults \nHolidays may affect operating hours.
URL:https://cisc-seattle.org/event/russian-speaking-senior-day-program-2/2025-04-15/
LOCATION:North Bellevue Community Center\, 4063 148th Ave NE\, Bellevue\, 98007\, United States
CATEGORIES:Older Adult Activities
ATTACH;FMTTYPE=image/jpeg:https://cisc-seattle.org/wp-content/uploads/2024/12/Senior-Day-Program.jpeg
END:VEVENT
BEGIN:VEVENT
DTSTART;TZID=America/Los_Angeles:20250411T130000
DTEND;TZID=America/Los_Angeles:20250411T140000
DTSTAMP:20260424T205315
CREATED:20250402T004109Z
LAST-MODIFIED:20250402T004109Z
UID:10000100-1744376400-1744380000@cisc-seattle.org
SUMMARY:Sunshine Garden: Tech Help
DESCRIPTION:Looking for help to learn more about your smartphone or tablet? Sunshine Garden Chinese Senior Community Center is offering drop-in technology help each week. Join us to learn how you can stay connected to family and friends\, use translation apps\, and much more.
URL:https://cisc-seattle.org/event/sunshine-garden-tech-help/2025-04-11/
LOCATION:Sunshine Garden\, 611 S Lane St\, Seattle\, WA\, 98104
CATEGORIES:Older Adult Activities
ATTACH;FMTTYPE=image/jpeg:https://cisc-seattle.org/wp-content/uploads/2024/12/pexels-thepaintedsquare-583842-scaled.jpg
ORGANIZER;CN="CISC":MAILTO:info@cisc-seattle.org
END:VEVENT
BEGIN:VEVENT
DTSTART;TZID=America/Los_Angeles:20250411T093000
DTEND;TZID=America/Los_Angeles:20250411T140000
DTSTAMP:20260424T205315
CREATED:20250319T214349Z
LAST-MODIFIED:20250702T164033Z
UID:10000020-1744363800-1744380000@cisc-seattle.org
SUMMARY:Russian-Speaking Senior Day Program (Bellevue)
DESCRIPTION:Participants enjoy a welcoming\, supportive environment with access to resources and culturally-relevant programming. The program operates Tuesdays and Fridays at the North Bellevue Community Center. Our team members design activities that will promote health\, social connections\, well-being\, and quality of life. This program is funded by the City of Bellevue and Amazon. \nLanguages: Russian\, Ukrainian \nAges: Older Adults \nHolidays may affect operating hours.
URL:https://cisc-seattle.org/event/russian-speaking-senior-day-program-2/2025-04-11/
LOCATION:North Bellevue Community Center\, 4063 148th Ave NE\, Bellevue\, 98007\, United States
CATEGORIES:Older Adult Activities
ATTACH;FMTTYPE=image/jpeg:https://cisc-seattle.org/wp-content/uploads/2024/12/Senior-Day-Program.jpeg
END:VEVENT
BEGIN:VEVENT
DTSTART;TZID=America/Los_Angeles:20250409T103000
DTEND;TZID=America/Los_Angeles:20250409T113000
DTSTAMP:20260424T205315
CREATED:20250402T004256Z
LAST-MODIFIED:20250402T004256Z
UID:10000105-1744194600-1744198200@cisc-seattle.org
SUMMARY:Sunshine Garden: Basic Yoga
DESCRIPTION:Learn and practice basic yoga with our instructor and participants.
URL:https://cisc-seattle.org/event/sunshine-garden-basic-yoga-2/2025-04-09/
LOCATION:Sunshine Garden\, 611 S Lane St\, Seattle\, WA\, 98104
ATTACH;FMTTYPE=image/jpeg:https://cisc-seattle.org/wp-content/uploads/2025/03/yoga-mats.jpg
END:VEVENT
BEGIN:VEVENT
DTSTART;TZID=America/Los_Angeles:20250408T093000
DTEND;TZID=America/Los_Angeles:20250408T140000
DTSTAMP:20260424T205315
CREATED:20250319T214349Z
LAST-MODIFIED:20250702T164033Z
UID:10000019-1744104600-1744120800@cisc-seattle.org
SUMMARY:Russian-Speaking Senior Day Program (Bellevue)
DESCRIPTION:Participants enjoy a welcoming\, supportive environment with access to resources and culturally-relevant programming. The program operates Tuesdays and Fridays at the North Bellevue Community Center. Our team members design activities that will promote health\, social connections\, well-being\, and quality of life. This program is funded by the City of Bellevue and Amazon. \nLanguages: Russian\, Ukrainian \nAges: Older Adults \nHolidays may affect operating hours.
URL:https://cisc-seattle.org/event/russian-speaking-senior-day-program-2/2025-04-08/
LOCATION:North Bellevue Community Center\, 4063 148th Ave NE\, Bellevue\, 98007\, United States
CATEGORIES:Older Adult Activities
ATTACH;FMTTYPE=image/jpeg:https://cisc-seattle.org/wp-content/uploads/2024/12/Senior-Day-Program.jpeg
END:VEVENT
END:VCALENDAR