BEGIN:VCALENDAR
VERSION:2.0
PRODID:-//CISC - ECPv6.15.20//NONSGML v1.0//EN
CALSCALE:GREGORIAN
METHOD:PUBLISH
X-WR-CALNAME:CISC
X-ORIGINAL-URL:https://cisc-seattle.org
X-WR-CALDESC:Events for CISC
REFRESH-INTERVAL;VALUE=DURATION:PT1H
X-Robots-Tag:noindex
X-PUBLISHED-TTL:PT1H
BEGIN:VTIMEZONE
TZID:America/Los_Angeles
BEGIN:DAYLIGHT
TZOFFSETFROM:-0800
TZOFFSETTO:-0700
TZNAME:PDT
DTSTART:20240310T100000
END:DAYLIGHT
BEGIN:STANDARD
TZOFFSETFROM:-0700
TZOFFSETTO:-0800
TZNAME:PST
DTSTART:20241103T090000
END:STANDARD
BEGIN:DAYLIGHT
TZOFFSETFROM:-0800
TZOFFSETTO:-0700
TZNAME:PDT
DTSTART:20250309T100000
END:DAYLIGHT
BEGIN:STANDARD
TZOFFSETFROM:-0700
TZOFFSETTO:-0800
TZNAME:PST
DTSTART:20251102T090000
END:STANDARD
BEGIN:DAYLIGHT
TZOFFSETFROM:-0800
TZOFFSETTO:-0700
TZNAME:PDT
DTSTART:20260308T100000
END:DAYLIGHT
BEGIN:STANDARD
TZOFFSETFROM:-0700
TZOFFSETTO:-0800
TZNAME:PST
DTSTART:20261101T090000
END:STANDARD
END:VTIMEZONE
BEGIN:VEVENT
DTSTART;TZID=America/Los_Angeles:20250919T130000
DTEND;TZID=America/Los_Angeles:20250919T140000
DTSTAMP:20260424T072803
CREATED:20250804T173833Z
LAST-MODIFIED:20250804T173833Z
UID:10000184-1758286800-1758290400@cisc-seattle.org
SUMMARY:Sunshine Garden: Tech Help
DESCRIPTION:Looking for help to learn more about your smartphone or tablet? Sunshine Garden Chinese Senior Community Center is offering drop-in technology help each week. Join us to learn how you can stay connected to family and friends\, use translation apps\, and much more. \nPlease check the Sunshine Garden calendar for the most updated schedule. \n 
URL:https://cisc-seattle.org/event/sunshine-garden-tech-help-4/2025-09-19/
LOCATION:Sunshine Garden\, 611 S Lane St\, Seattle\, WA\, 98104
CATEGORIES:Older Adult Activities
ATTACH;FMTTYPE=image/jpeg:https://cisc-seattle.org/wp-content/uploads/2024/12/pexels-thepaintedsquare-583842-scaled.jpg
ORGANIZER;CN="CISC":MAILTO:info@cisc-seattle.org
END:VEVENT
BEGIN:VEVENT
DTSTART;TZID=America/Los_Angeles:20250919T093000
DTEND;TZID=America/Los_Angeles:20250919T140000
DTSTAMP:20260424T072803
CREATED:20250319T214349Z
LAST-MODIFIED:20250702T164033Z
UID:10000066-1758274200-1758290400@cisc-seattle.org
SUMMARY:Russian-Speaking Senior Day Program (Bellevue)
DESCRIPTION:Participants enjoy a welcoming\, supportive environment with access to resources and culturally-relevant programming. The program operates Tuesdays and Fridays at the North Bellevue Community Center. Our team members design activities that will promote health\, social connections\, well-being\, and quality of life. This program is funded by the City of Bellevue and Amazon. \nLanguages: Russian\, Ukrainian \nAges: Older Adults \nHolidays may affect operating hours.
URL:https://cisc-seattle.org/event/russian-speaking-senior-day-program-2/2025-09-19/
LOCATION:North Bellevue Community Center\, 4063 148th Ave NE\, Bellevue\, 98007\, United States
CATEGORIES:Older Adult Activities
ATTACH;FMTTYPE=image/jpeg:https://cisc-seattle.org/wp-content/uploads/2024/12/Senior-Day-Program.jpeg
END:VEVENT
BEGIN:VEVENT
DTSTART;TZID=America/Los_Angeles:20250917T103000
DTEND;TZID=America/Los_Angeles:20250917T113000
DTSTAMP:20260424T072803
CREATED:20250502T005219Z
LAST-MODIFIED:20250502T005219Z
UID:10000132-1758105000-1758108600@cisc-seattle.org
SUMMARY:Sunshine Garden: Basic Yoga
DESCRIPTION:Learn and practice basic yoga with our instructor and participants.
URL:https://cisc-seattle.org/event/sunshine-garden-basic-yoga-3/2025-09-17/
LOCATION:Sunshine Garden\, 611 S Lane St\, Seattle\, WA\, 98104
ATTACH;FMTTYPE=image/jpeg:https://cisc-seattle.org/wp-content/uploads/2025/03/yoga-mats.jpg
END:VEVENT
BEGIN:VEVENT
DTSTART;TZID=America/Los_Angeles:20250916T093000
DTEND;TZID=America/Los_Angeles:20250916T140000
DTSTAMP:20260424T072803
CREATED:20250319T214349Z
LAST-MODIFIED:20250702T164033Z
UID:10000065-1758015000-1758031200@cisc-seattle.org
SUMMARY:Russian-Speaking Senior Day Program (Bellevue)
DESCRIPTION:Participants enjoy a welcoming\, supportive environment with access to resources and culturally-relevant programming. The program operates Tuesdays and Fridays at the North Bellevue Community Center. Our team members design activities that will promote health\, social connections\, well-being\, and quality of life. This program is funded by the City of Bellevue and Amazon. \nLanguages: Russian\, Ukrainian \nAges: Older Adults \nHolidays may affect operating hours.
URL:https://cisc-seattle.org/event/russian-speaking-senior-day-program-2/2025-09-16/
LOCATION:North Bellevue Community Center\, 4063 148th Ave NE\, Bellevue\, 98007\, United States
CATEGORIES:Older Adult Activities
ATTACH;FMTTYPE=image/jpeg:https://cisc-seattle.org/wp-content/uploads/2024/12/Senior-Day-Program.jpeg
END:VEVENT
BEGIN:VEVENT
DTSTART;TZID=America/Los_Angeles:20250912T130000
DTEND;TZID=America/Los_Angeles:20250912T140000
DTSTAMP:20260424T072803
CREATED:20250804T173833Z
LAST-MODIFIED:20250804T173833Z
UID:10000183-1757682000-1757685600@cisc-seattle.org
SUMMARY:Sunshine Garden: Tech Help
DESCRIPTION:Looking for help to learn more about your smartphone or tablet? Sunshine Garden Chinese Senior Community Center is offering drop-in technology help each week. Join us to learn how you can stay connected to family and friends\, use translation apps\, and much more. \nPlease check the Sunshine Garden calendar for the most updated schedule. \n 
URL:https://cisc-seattle.org/event/sunshine-garden-tech-help-4/2025-09-12/
LOCATION:Sunshine Garden\, 611 S Lane St\, Seattle\, WA\, 98104
CATEGORIES:Older Adult Activities
ATTACH;FMTTYPE=image/jpeg:https://cisc-seattle.org/wp-content/uploads/2024/12/pexels-thepaintedsquare-583842-scaled.jpg
ORGANIZER;CN="CISC":MAILTO:info@cisc-seattle.org
END:VEVENT
BEGIN:VEVENT
DTSTART;TZID=America/Los_Angeles:20250912T093000
DTEND;TZID=America/Los_Angeles:20250912T140000
DTSTAMP:20260424T072803
CREATED:20250319T214349Z
LAST-MODIFIED:20250702T164033Z
UID:10000064-1757669400-1757685600@cisc-seattle.org
SUMMARY:Russian-Speaking Senior Day Program (Bellevue)
DESCRIPTION:Participants enjoy a welcoming\, supportive environment with access to resources and culturally-relevant programming. The program operates Tuesdays and Fridays at the North Bellevue Community Center. Our team members design activities that will promote health\, social connections\, well-being\, and quality of life. This program is funded by the City of Bellevue and Amazon. \nLanguages: Russian\, Ukrainian \nAges: Older Adults \nHolidays may affect operating hours.
URL:https://cisc-seattle.org/event/russian-speaking-senior-day-program-2/2025-09-12/
LOCATION:North Bellevue Community Center\, 4063 148th Ave NE\, Bellevue\, 98007\, United States
CATEGORIES:Older Adult Activities
ATTACH;FMTTYPE=image/jpeg:https://cisc-seattle.org/wp-content/uploads/2024/12/Senior-Day-Program.jpeg
END:VEVENT
BEGIN:VEVENT
DTSTART;TZID=America/Los_Angeles:20250910T103000
DTEND;TZID=America/Los_Angeles:20250910T113000
DTSTAMP:20260424T072803
CREATED:20250502T005219Z
LAST-MODIFIED:20250502T005219Z
UID:10000131-1757500200-1757503800@cisc-seattle.org
SUMMARY:Sunshine Garden: Basic Yoga
DESCRIPTION:Learn and practice basic yoga with our instructor and participants.
URL:https://cisc-seattle.org/event/sunshine-garden-basic-yoga-3/2025-09-10/
LOCATION:Sunshine Garden\, 611 S Lane St\, Seattle\, WA\, 98104
ATTACH;FMTTYPE=image/jpeg:https://cisc-seattle.org/wp-content/uploads/2025/03/yoga-mats.jpg
END:VEVENT
BEGIN:VEVENT
DTSTART;TZID=America/Los_Angeles:20250909T093000
DTEND;TZID=America/Los_Angeles:20250909T140000
DTSTAMP:20260424T072803
CREATED:20250319T214349Z
LAST-MODIFIED:20250702T164033Z
UID:10000063-1757410200-1757426400@cisc-seattle.org
SUMMARY:Russian-Speaking Senior Day Program (Bellevue)
DESCRIPTION:Participants enjoy a welcoming\, supportive environment with access to resources and culturally-relevant programming. The program operates Tuesdays and Fridays at the North Bellevue Community Center. Our team members design activities that will promote health\, social connections\, well-being\, and quality of life. This program is funded by the City of Bellevue and Amazon. \nLanguages: Russian\, Ukrainian \nAges: Older Adults \nHolidays may affect operating hours.
URL:https://cisc-seattle.org/event/russian-speaking-senior-day-program-2/2025-09-09/
LOCATION:North Bellevue Community Center\, 4063 148th Ave NE\, Bellevue\, 98007\, United States
CATEGORIES:Older Adult Activities
ATTACH;FMTTYPE=image/jpeg:https://cisc-seattle.org/wp-content/uploads/2024/12/Senior-Day-Program.jpeg
END:VEVENT
BEGIN:VEVENT
DTSTART;TZID=America/Los_Angeles:20250905T130000
DTEND;TZID=America/Los_Angeles:20250905T140000
DTSTAMP:20260424T072803
CREATED:20250804T173833Z
LAST-MODIFIED:20250804T173833Z
UID:10000182-1757077200-1757080800@cisc-seattle.org
SUMMARY:Sunshine Garden: Tech Help
DESCRIPTION:Looking for help to learn more about your smartphone or tablet? Sunshine Garden Chinese Senior Community Center is offering drop-in technology help each week. Join us to learn how you can stay connected to family and friends\, use translation apps\, and much more. \nPlease check the Sunshine Garden calendar for the most updated schedule. \n 
URL:https://cisc-seattle.org/event/sunshine-garden-tech-help-4/2025-09-05/
LOCATION:Sunshine Garden\, 611 S Lane St\, Seattle\, WA\, 98104
CATEGORIES:Older Adult Activities
ATTACH;FMTTYPE=image/jpeg:https://cisc-seattle.org/wp-content/uploads/2024/12/pexels-thepaintedsquare-583842-scaled.jpg
ORGANIZER;CN="CISC":MAILTO:info@cisc-seattle.org
END:VEVENT
BEGIN:VEVENT
DTSTART;TZID=America/Los_Angeles:20250905T093000
DTEND;TZID=America/Los_Angeles:20250905T140000
DTSTAMP:20260424T072803
CREATED:20250319T214349Z
LAST-MODIFIED:20250702T164033Z
UID:10000062-1757064600-1757080800@cisc-seattle.org
SUMMARY:Russian-Speaking Senior Day Program (Bellevue)
DESCRIPTION:Participants enjoy a welcoming\, supportive environment with access to resources and culturally-relevant programming. The program operates Tuesdays and Fridays at the North Bellevue Community Center. Our team members design activities that will promote health\, social connections\, well-being\, and quality of life. This program is funded by the City of Bellevue and Amazon. \nLanguages: Russian\, Ukrainian \nAges: Older Adults \nHolidays may affect operating hours.
URL:https://cisc-seattle.org/event/russian-speaking-senior-day-program-2/2025-09-05/
LOCATION:North Bellevue Community Center\, 4063 148th Ave NE\, Bellevue\, 98007\, United States
CATEGORIES:Older Adult Activities
ATTACH;FMTTYPE=image/jpeg:https://cisc-seattle.org/wp-content/uploads/2024/12/Senior-Day-Program.jpeg
END:VEVENT
BEGIN:VEVENT
DTSTART;TZID=America/Los_Angeles:20250903T103000
DTEND;TZID=America/Los_Angeles:20250903T113000
DTSTAMP:20260424T072803
CREATED:20250502T005219Z
LAST-MODIFIED:20250502T005219Z
UID:10000130-1756895400-1756899000@cisc-seattle.org
SUMMARY:Sunshine Garden: Basic Yoga
DESCRIPTION:Learn and practice basic yoga with our instructor and participants.
URL:https://cisc-seattle.org/event/sunshine-garden-basic-yoga-3/2025-09-03/
LOCATION:Sunshine Garden\, 611 S Lane St\, Seattle\, WA\, 98104
ATTACH;FMTTYPE=image/jpeg:https://cisc-seattle.org/wp-content/uploads/2025/03/yoga-mats.jpg
END:VEVENT
BEGIN:VEVENT
DTSTART;TZID=America/Los_Angeles:20250902T093000
DTEND;TZID=America/Los_Angeles:20250902T140000
DTSTAMP:20260424T072803
CREATED:20250319T214349Z
LAST-MODIFIED:20250702T164033Z
UID:10000061-1756805400-1756821600@cisc-seattle.org
SUMMARY:Russian-Speaking Senior Day Program (Bellevue)
DESCRIPTION:Participants enjoy a welcoming\, supportive environment with access to resources and culturally-relevant programming. The program operates Tuesdays and Fridays at the North Bellevue Community Center. Our team members design activities that will promote health\, social connections\, well-being\, and quality of life. This program is funded by the City of Bellevue and Amazon. \nLanguages: Russian\, Ukrainian \nAges: Older Adults \nHolidays may affect operating hours.
URL:https://cisc-seattle.org/event/russian-speaking-senior-day-program-2/2025-09-02/
LOCATION:North Bellevue Community Center\, 4063 148th Ave NE\, Bellevue\, 98007\, United States
CATEGORIES:Older Adult Activities
ATTACH;FMTTYPE=image/jpeg:https://cisc-seattle.org/wp-content/uploads/2024/12/Senior-Day-Program.jpeg
END:VEVENT
BEGIN:VEVENT
DTSTART;TZID=America/Los_Angeles:20250829T130000
DTEND;TZID=America/Los_Angeles:20250829T140000
DTSTAMP:20260424T072803
CREATED:20250804T173833Z
LAST-MODIFIED:20250804T173833Z
UID:10000181-1756472400-1756476000@cisc-seattle.org
SUMMARY:Sunshine Garden: Tech Help
DESCRIPTION:Looking for help to learn more about your smartphone or tablet? Sunshine Garden Chinese Senior Community Center is offering drop-in technology help each week. Join us to learn how you can stay connected to family and friends\, use translation apps\, and much more. \nPlease check the Sunshine Garden calendar for the most updated schedule. \n 
URL:https://cisc-seattle.org/event/sunshine-garden-tech-help-4/2025-08-29/
LOCATION:Sunshine Garden\, 611 S Lane St\, Seattle\, WA\, 98104
CATEGORIES:Older Adult Activities
ATTACH;FMTTYPE=image/jpeg:https://cisc-seattle.org/wp-content/uploads/2024/12/pexels-thepaintedsquare-583842-scaled.jpg
ORGANIZER;CN="CISC":MAILTO:info@cisc-seattle.org
END:VEVENT
BEGIN:VEVENT
DTSTART;TZID=America/Los_Angeles:20250829T093000
DTEND;TZID=America/Los_Angeles:20250829T140000
DTSTAMP:20260424T072803
CREATED:20250319T214349Z
LAST-MODIFIED:20250702T164033Z
UID:10000060-1756459800-1756476000@cisc-seattle.org
SUMMARY:Russian-Speaking Senior Day Program (Bellevue)
DESCRIPTION:Participants enjoy a welcoming\, supportive environment with access to resources and culturally-relevant programming. The program operates Tuesdays and Fridays at the North Bellevue Community Center. Our team members design activities that will promote health\, social connections\, well-being\, and quality of life. This program is funded by the City of Bellevue and Amazon. \nLanguages: Russian\, Ukrainian \nAges: Older Adults \nHolidays may affect operating hours.
URL:https://cisc-seattle.org/event/russian-speaking-senior-day-program-2/2025-08-29/
LOCATION:North Bellevue Community Center\, 4063 148th Ave NE\, Bellevue\, 98007\, United States
CATEGORIES:Older Adult Activities
ATTACH;FMTTYPE=image/jpeg:https://cisc-seattle.org/wp-content/uploads/2024/12/Senior-Day-Program.jpeg
END:VEVENT
BEGIN:VEVENT
DTSTART;TZID=America/Los_Angeles:20250827T103000
DTEND;TZID=America/Los_Angeles:20250827T113000
DTSTAMP:20260424T072803
CREATED:20250502T005219Z
LAST-MODIFIED:20250502T005219Z
UID:10000129-1756290600-1756294200@cisc-seattle.org
SUMMARY:Sunshine Garden: Basic Yoga
DESCRIPTION:Learn and practice basic yoga with our instructor and participants.
URL:https://cisc-seattle.org/event/sunshine-garden-basic-yoga-3/2025-08-27/
LOCATION:Sunshine Garden\, 611 S Lane St\, Seattle\, WA\, 98104
ATTACH;FMTTYPE=image/jpeg:https://cisc-seattle.org/wp-content/uploads/2025/03/yoga-mats.jpg
END:VEVENT
BEGIN:VEVENT
DTSTART;TZID=America/Los_Angeles:20250826T093000
DTEND;TZID=America/Los_Angeles:20250826T140000
DTSTAMP:20260424T072803
CREATED:20250319T214349Z
LAST-MODIFIED:20250702T164033Z
UID:10000059-1756200600-1756216800@cisc-seattle.org
SUMMARY:Russian-Speaking Senior Day Program (Bellevue)
DESCRIPTION:Participants enjoy a welcoming\, supportive environment with access to resources and culturally-relevant programming. The program operates Tuesdays and Fridays at the North Bellevue Community Center. Our team members design activities that will promote health\, social connections\, well-being\, and quality of life. This program is funded by the City of Bellevue and Amazon. \nLanguages: Russian\, Ukrainian \nAges: Older Adults \nHolidays may affect operating hours.
URL:https://cisc-seattle.org/event/russian-speaking-senior-day-program-2/2025-08-26/
LOCATION:North Bellevue Community Center\, 4063 148th Ave NE\, Bellevue\, 98007\, United States
CATEGORIES:Older Adult Activities
ATTACH;FMTTYPE=image/jpeg:https://cisc-seattle.org/wp-content/uploads/2024/12/Senior-Day-Program.jpeg
END:VEVENT
BEGIN:VEVENT
DTSTART;TZID=America/Los_Angeles:20250822T093000
DTEND;TZID=America/Los_Angeles:20250822T140000
DTSTAMP:20260424T072803
CREATED:20250319T214349Z
LAST-MODIFIED:20250702T164033Z
UID:10000058-1755855000-1755871200@cisc-seattle.org
SUMMARY:Russian-Speaking Senior Day Program (Bellevue)
DESCRIPTION:Participants enjoy a welcoming\, supportive environment with access to resources and culturally-relevant programming. The program operates Tuesdays and Fridays at the North Bellevue Community Center. Our team members design activities that will promote health\, social connections\, well-being\, and quality of life. This program is funded by the City of Bellevue and Amazon. \nLanguages: Russian\, Ukrainian \nAges: Older Adults \nHolidays may affect operating hours.
URL:https://cisc-seattle.org/event/russian-speaking-senior-day-program-2/2025-08-22/
LOCATION:North Bellevue Community Center\, 4063 148th Ave NE\, Bellevue\, 98007\, United States
CATEGORIES:Older Adult Activities
ATTACH;FMTTYPE=image/jpeg:https://cisc-seattle.org/wp-content/uploads/2024/12/Senior-Day-Program.jpeg
END:VEVENT
BEGIN:VEVENT
DTSTART;TZID=America/Los_Angeles:20250820T103000
DTEND;TZID=America/Los_Angeles:20250820T113000
DTSTAMP:20260424T072803
CREATED:20250502T005219Z
LAST-MODIFIED:20250502T005219Z
UID:10000128-1755685800-1755689400@cisc-seattle.org
SUMMARY:Sunshine Garden: Basic Yoga
DESCRIPTION:Learn and practice basic yoga with our instructor and participants.
URL:https://cisc-seattle.org/event/sunshine-garden-basic-yoga-3/2025-08-20/
LOCATION:Sunshine Garden\, 611 S Lane St\, Seattle\, WA\, 98104
ATTACH;FMTTYPE=image/jpeg:https://cisc-seattle.org/wp-content/uploads/2025/03/yoga-mats.jpg
END:VEVENT
BEGIN:VEVENT
DTSTART;TZID=America/Los_Angeles:20250819T093000
DTEND;TZID=America/Los_Angeles:20250819T140000
DTSTAMP:20260424T072803
CREATED:20250319T214349Z
LAST-MODIFIED:20250702T164033Z
UID:10000057-1755595800-1755612000@cisc-seattle.org
SUMMARY:Russian-Speaking Senior Day Program (Bellevue)
DESCRIPTION:Participants enjoy a welcoming\, supportive environment with access to resources and culturally-relevant programming. The program operates Tuesdays and Fridays at the North Bellevue Community Center. Our team members design activities that will promote health\, social connections\, well-being\, and quality of life. This program is funded by the City of Bellevue and Amazon. \nLanguages: Russian\, Ukrainian \nAges: Older Adults \nHolidays may affect operating hours.
URL:https://cisc-seattle.org/event/russian-speaking-senior-day-program-2/2025-08-19/
LOCATION:North Bellevue Community Center\, 4063 148th Ave NE\, Bellevue\, 98007\, United States
CATEGORIES:Older Adult Activities
ATTACH;FMTTYPE=image/jpeg:https://cisc-seattle.org/wp-content/uploads/2024/12/Senior-Day-Program.jpeg
END:VEVENT
BEGIN:VEVENT
DTSTART;TZID=America/Los_Angeles:20250815T130000
DTEND;TZID=America/Los_Angeles:20250815T140000
DTSTAMP:20260424T072803
CREATED:20250804T173833Z
LAST-MODIFIED:20250804T173833Z
UID:10000180-1755262800-1755266400@cisc-seattle.org
SUMMARY:Sunshine Garden: Tech Help
DESCRIPTION:Looking for help to learn more about your smartphone or tablet? Sunshine Garden Chinese Senior Community Center is offering drop-in technology help each week. Join us to learn how you can stay connected to family and friends\, use translation apps\, and much more. \nPlease check the Sunshine Garden calendar for the most updated schedule. \n 
URL:https://cisc-seattle.org/event/sunshine-garden-tech-help-4/2025-08-15/
LOCATION:Sunshine Garden\, 611 S Lane St\, Seattle\, WA\, 98104
CATEGORIES:Older Adult Activities
ATTACH;FMTTYPE=image/jpeg:https://cisc-seattle.org/wp-content/uploads/2024/12/pexels-thepaintedsquare-583842-scaled.jpg
ORGANIZER;CN="CISC":MAILTO:info@cisc-seattle.org
END:VEVENT
BEGIN:VEVENT
DTSTART;TZID=America/Los_Angeles:20250815T093000
DTEND;TZID=America/Los_Angeles:20250815T140000
DTSTAMP:20260424T072803
CREATED:20250319T214349Z
LAST-MODIFIED:20250702T164033Z
UID:10000056-1755250200-1755266400@cisc-seattle.org
SUMMARY:Russian-Speaking Senior Day Program (Bellevue)
DESCRIPTION:Participants enjoy a welcoming\, supportive environment with access to resources and culturally-relevant programming. The program operates Tuesdays and Fridays at the North Bellevue Community Center. Our team members design activities that will promote health\, social connections\, well-being\, and quality of life. This program is funded by the City of Bellevue and Amazon. \nLanguages: Russian\, Ukrainian \nAges: Older Adults \nHolidays may affect operating hours.
URL:https://cisc-seattle.org/event/russian-speaking-senior-day-program-2/2025-08-15/
LOCATION:North Bellevue Community Center\, 4063 148th Ave NE\, Bellevue\, 98007\, United States
CATEGORIES:Older Adult Activities
ATTACH;FMTTYPE=image/jpeg:https://cisc-seattle.org/wp-content/uploads/2024/12/Senior-Day-Program.jpeg
END:VEVENT
BEGIN:VEVENT
DTSTART;TZID=America/Los_Angeles:20250813T103000
DTEND;TZID=America/Los_Angeles:20250813T113000
DTSTAMP:20260424T072803
CREATED:20250502T005219Z
LAST-MODIFIED:20250502T005219Z
UID:10000127-1755081000-1755084600@cisc-seattle.org
SUMMARY:Sunshine Garden: Basic Yoga
DESCRIPTION:Learn and practice basic yoga with our instructor and participants.
URL:https://cisc-seattle.org/event/sunshine-garden-basic-yoga-3/2025-08-13/
LOCATION:Sunshine Garden\, 611 S Lane St\, Seattle\, WA\, 98104
ATTACH;FMTTYPE=image/jpeg:https://cisc-seattle.org/wp-content/uploads/2025/03/yoga-mats.jpg
END:VEVENT
BEGIN:VEVENT
DTSTART;TZID=America/Los_Angeles:20250812T093000
DTEND;TZID=America/Los_Angeles:20250812T140000
DTSTAMP:20260424T072803
CREATED:20250319T214349Z
LAST-MODIFIED:20250702T164033Z
UID:10000055-1754991000-1755007200@cisc-seattle.org
SUMMARY:Russian-Speaking Senior Day Program (Bellevue)
DESCRIPTION:Participants enjoy a welcoming\, supportive environment with access to resources and culturally-relevant programming. The program operates Tuesdays and Fridays at the North Bellevue Community Center. Our team members design activities that will promote health\, social connections\, well-being\, and quality of life. This program is funded by the City of Bellevue and Amazon. \nLanguages: Russian\, Ukrainian \nAges: Older Adults \nHolidays may affect operating hours.
URL:https://cisc-seattle.org/event/russian-speaking-senior-day-program-2/2025-08-12/
LOCATION:North Bellevue Community Center\, 4063 148th Ave NE\, Bellevue\, 98007\, United States
CATEGORIES:Older Adult Activities
ATTACH;FMTTYPE=image/jpeg:https://cisc-seattle.org/wp-content/uploads/2024/12/Senior-Day-Program.jpeg
END:VEVENT
BEGIN:VEVENT
DTSTART;TZID=America/Los_Angeles:20250808T130000
DTEND;TZID=America/Los_Angeles:20250808T140000
DTSTAMP:20260424T072803
CREATED:20250804T173833Z
LAST-MODIFIED:20250804T173833Z
UID:10000179-1754658000-1754661600@cisc-seattle.org
SUMMARY:Sunshine Garden: Tech Help
DESCRIPTION:Looking for help to learn more about your smartphone or tablet? Sunshine Garden Chinese Senior Community Center is offering drop-in technology help each week. Join us to learn how you can stay connected to family and friends\, use translation apps\, and much more. \nPlease check the Sunshine Garden calendar for the most updated schedule. \n 
URL:https://cisc-seattle.org/event/sunshine-garden-tech-help-4/2025-08-08/
LOCATION:Sunshine Garden\, 611 S Lane St\, Seattle\, WA\, 98104
CATEGORIES:Older Adult Activities
ATTACH;FMTTYPE=image/jpeg:https://cisc-seattle.org/wp-content/uploads/2024/12/pexels-thepaintedsquare-583842-scaled.jpg
ORGANIZER;CN="CISC":MAILTO:info@cisc-seattle.org
END:VEVENT
BEGIN:VEVENT
DTSTART;TZID=America/Los_Angeles:20250808T093000
DTEND;TZID=America/Los_Angeles:20250808T140000
DTSTAMP:20260424T072803
CREATED:20250319T214349Z
LAST-MODIFIED:20250702T164033Z
UID:10000054-1754645400-1754661600@cisc-seattle.org
SUMMARY:Russian-Speaking Senior Day Program (Bellevue)
DESCRIPTION:Participants enjoy a welcoming\, supportive environment with access to resources and culturally-relevant programming. The program operates Tuesdays and Fridays at the North Bellevue Community Center. Our team members design activities that will promote health\, social connections\, well-being\, and quality of life. This program is funded by the City of Bellevue and Amazon. \nLanguages: Russian\, Ukrainian \nAges: Older Adults \nHolidays may affect operating hours.
URL:https://cisc-seattle.org/event/russian-speaking-senior-day-program-2/2025-08-08/
LOCATION:North Bellevue Community Center\, 4063 148th Ave NE\, Bellevue\, 98007\, United States
CATEGORIES:Older Adult Activities
ATTACH;FMTTYPE=image/jpeg:https://cisc-seattle.org/wp-content/uploads/2024/12/Senior-Day-Program.jpeg
END:VEVENT
BEGIN:VEVENT
DTSTART;TZID=America/Los_Angeles:20250806T103000
DTEND;TZID=America/Los_Angeles:20250806T113000
DTSTAMP:20260424T072803
CREATED:20250502T005219Z
LAST-MODIFIED:20250502T005219Z
UID:10000126-1754476200-1754479800@cisc-seattle.org
SUMMARY:Sunshine Garden: Basic Yoga
DESCRIPTION:Learn and practice basic yoga with our instructor and participants.
URL:https://cisc-seattle.org/event/sunshine-garden-basic-yoga-3/2025-08-06/
LOCATION:Sunshine Garden\, 611 S Lane St\, Seattle\, WA\, 98104
ATTACH;FMTTYPE=image/jpeg:https://cisc-seattle.org/wp-content/uploads/2025/03/yoga-mats.jpg
END:VEVENT
BEGIN:VEVENT
DTSTART;TZID=America/Los_Angeles:20250805T093000
DTEND;TZID=America/Los_Angeles:20250805T140000
DTSTAMP:20260424T072803
CREATED:20250319T214349Z
LAST-MODIFIED:20250702T164033Z
UID:10000053-1754386200-1754402400@cisc-seattle.org
SUMMARY:Russian-Speaking Senior Day Program (Bellevue)
DESCRIPTION:Participants enjoy a welcoming\, supportive environment with access to resources and culturally-relevant programming. The program operates Tuesdays and Fridays at the North Bellevue Community Center. Our team members design activities that will promote health\, social connections\, well-being\, and quality of life. This program is funded by the City of Bellevue and Amazon. \nLanguages: Russian\, Ukrainian \nAges: Older Adults \nHolidays may affect operating hours.
URL:https://cisc-seattle.org/event/russian-speaking-senior-day-program-2/2025-08-05/
LOCATION:North Bellevue Community Center\, 4063 148th Ave NE\, Bellevue\, 98007\, United States
CATEGORIES:Older Adult Activities
ATTACH;FMTTYPE=image/jpeg:https://cisc-seattle.org/wp-content/uploads/2024/12/Senior-Day-Program.jpeg
END:VEVENT
BEGIN:VEVENT
DTSTART;TZID=America/Los_Angeles:20250801T130000
DTEND;TZID=America/Los_Angeles:20250801T140000
DTSTAMP:20260424T072803
CREATED:20250804T173833Z
LAST-MODIFIED:20250804T173833Z
UID:10000178-1754053200-1754056800@cisc-seattle.org
SUMMARY:Sunshine Garden: Tech Help
DESCRIPTION:Looking for help to learn more about your smartphone or tablet? Sunshine Garden Chinese Senior Community Center is offering drop-in technology help each week. Join us to learn how you can stay connected to family and friends\, use translation apps\, and much more. \nPlease check the Sunshine Garden calendar for the most updated schedule. \n 
URL:https://cisc-seattle.org/event/sunshine-garden-tech-help-4/2025-08-01/
LOCATION:Sunshine Garden\, 611 S Lane St\, Seattle\, WA\, 98104
CATEGORIES:Older Adult Activities
ATTACH;FMTTYPE=image/jpeg:https://cisc-seattle.org/wp-content/uploads/2024/12/pexels-thepaintedsquare-583842-scaled.jpg
ORGANIZER;CN="CISC":MAILTO:info@cisc-seattle.org
END:VEVENT
BEGIN:VEVENT
DTSTART;TZID=America/Los_Angeles:20250801T093000
DTEND;TZID=America/Los_Angeles:20250801T140000
DTSTAMP:20260424T072803
CREATED:20250319T214349Z
LAST-MODIFIED:20250702T164033Z
UID:10000052-1754040600-1754056800@cisc-seattle.org
SUMMARY:Russian-Speaking Senior Day Program (Bellevue)
DESCRIPTION:Participants enjoy a welcoming\, supportive environment with access to resources and culturally-relevant programming. The program operates Tuesdays and Fridays at the North Bellevue Community Center. Our team members design activities that will promote health\, social connections\, well-being\, and quality of life. This program is funded by the City of Bellevue and Amazon. \nLanguages: Russian\, Ukrainian \nAges: Older Adults \nHolidays may affect operating hours.
URL:https://cisc-seattle.org/event/russian-speaking-senior-day-program-2/2025-08-01/
LOCATION:North Bellevue Community Center\, 4063 148th Ave NE\, Bellevue\, 98007\, United States
CATEGORIES:Older Adult Activities
ATTACH;FMTTYPE=image/jpeg:https://cisc-seattle.org/wp-content/uploads/2024/12/Senior-Day-Program.jpeg
END:VEVENT
BEGIN:VEVENT
DTSTART;TZID=America/Los_Angeles:20250730T103000
DTEND;TZID=America/Los_Angeles:20250730T113000
DTSTAMP:20260424T072803
CREATED:20250502T005219Z
LAST-MODIFIED:20250502T005219Z
UID:10000125-1753871400-1753875000@cisc-seattle.org
SUMMARY:Sunshine Garden: Basic Yoga
DESCRIPTION:Learn and practice basic yoga with our instructor and participants.
URL:https://cisc-seattle.org/event/sunshine-garden-basic-yoga-3/2025-07-30/
LOCATION:Sunshine Garden\, 611 S Lane St\, Seattle\, WA\, 98104
ATTACH;FMTTYPE=image/jpeg:https://cisc-seattle.org/wp-content/uploads/2025/03/yoga-mats.jpg
END:VEVENT
END:VCALENDAR