BEGIN:VCALENDAR
VERSION:2.0
PRODID:-//CISC - ECPv6.15.20//NONSGML v1.0//EN
CALSCALE:GREGORIAN
METHOD:PUBLISH
X-ORIGINAL-URL:https://cisc-seattle.org
X-WR-CALDESC:Events for CISC
REFRESH-INTERVAL;VALUE=DURATION:PT1H
X-Robots-Tag:noindex
X-PUBLISHED-TTL:PT1H
BEGIN:VTIMEZONE
TZID:America/Los_Angeles
BEGIN:DAYLIGHT
TZOFFSETFROM:-0800
TZOFFSETTO:-0700
TZNAME:PDT
DTSTART:20250309T100000
END:DAYLIGHT
BEGIN:STANDARD
TZOFFSETFROM:-0700
TZOFFSETTO:-0800
TZNAME:PST
DTSTART:20251102T090000
END:STANDARD
BEGIN:DAYLIGHT
TZOFFSETFROM:-0800
TZOFFSETTO:-0700
TZNAME:PDT
DTSTART:20260308T100000
END:DAYLIGHT
BEGIN:STANDARD
TZOFFSETFROM:-0700
TZOFFSETTO:-0800
TZNAME:PST
DTSTART:20261101T090000
END:STANDARD
BEGIN:DAYLIGHT
TZOFFSETFROM:-0800
TZOFFSETTO:-0700
TZNAME:PDT
DTSTART:20270314T100000
END:DAYLIGHT
BEGIN:STANDARD
TZOFFSETFROM:-0700
TZOFFSETTO:-0800
TZNAME:PST
DTSTART:20271107T090000
END:STANDARD
END:VTIMEZONE
BEGIN:VEVENT
DTSTART;TZID=America/Los_Angeles:20260302T130000
DTEND;TZID=America/Los_Angeles:20260302T140000
DTSTAMP:20260423T160709
CREATED:20260102T235317Z
LAST-MODIFIED:20260102T235317Z
UID:10000511-1772456400-1772460000@cisc-seattle.org
SUMMARY:Sunshine Garden: Chinese Knot Crochet
DESCRIPTION:Learn and practice Chinese knot crochet skills with our instructor and participants. \nNote: Check our monthly Sunshine Garden calendar to confirm the class schedule prior to attending. \nSunshine Garden Archives – Chinese Information and Service Center
URL:https://cisc-seattle.org/event/sunshine-garden-chinese-knot-crochet/2026-03-02/
LOCATION:Sunshine Garden\, 611 S Lane St\, Seattle\, WA\, 98104
ATTACH;FMTTYPE=image/png:https://cisc-seattle.org/wp-content/uploads/2026/01/ChineseKnot.png
END:VEVENT
BEGIN:VEVENT
DTSTART;TZID=America/Los_Angeles:20260303T093000
DTEND;TZID=America/Los_Angeles:20260303T140000
DTSTAMP:20260423T160709
CREATED:20260102T222131Z
LAST-MODIFIED:20260102T222131Z
UID:10000215-1772530200-1772546400@cisc-seattle.org
SUMMARY:Russian-Speaking Senior Day Program (Bellevue)
DESCRIPTION:Participants enjoy a welcoming\, supportive environment with access to resources and culturally-relevant programming. The program operates Tuesdays and Fridays at the North Bellevue Community Center. Our team members design activities that will promote health\, social connections\, well-being\, and quality of life. This program is funded by the City of Bellevue and Amazon. \nLanguages: Russian\, Ukrainian \nAges: Older Adults \nHolidays may affect operating hours.
URL:https://cisc-seattle.org/event/russian-speaking-senior-day-program-bellevue/2026-03-03/
LOCATION:North Bellevue Community Center\, 4063 148th Ave NE\, Bellevue\, 98007\, United States
CATEGORIES:Older Adult Activities
ATTACH;FMTTYPE=image/jpeg:https://cisc-seattle.org/wp-content/uploads/2024/12/Senior-Day-Program.jpeg
END:VEVENT
BEGIN:VEVENT
DTSTART;TZID=America/Los_Angeles:20260304T103000
DTEND;TZID=America/Los_Angeles:20260304T113000
DTSTAMP:20260423T160709
CREATED:20260102T222615Z
LAST-MODIFIED:20260102T222615Z
UID:10000156-1772620200-1772623800@cisc-seattle.org
SUMMARY:Sunshine Garden: Basic Yoga
DESCRIPTION:Learn and practice basic yoga with our instructor and participants. \nNote: Check our monthly Sunshine Garden calendar to confirm the class schedule prior to attending. \nSunshine Garden Archives – Chinese Information and Service Center
URL:https://cisc-seattle.org/event/sunshine-garden-basic-yoga-3-2/2026-03-04/
LOCATION:Sunshine Garden\, 611 S Lane St\, Seattle\, WA\, 98104
ATTACH;FMTTYPE=image/jpeg:https://cisc-seattle.org/wp-content/uploads/2025/03/yoga-mats.jpg
END:VEVENT
BEGIN:VEVENT
DTSTART;TZID=America/Los_Angeles:20260306T093000
DTEND;TZID=America/Los_Angeles:20260306T140000
DTSTAMP:20260423T160709
CREATED:20260102T222131Z
LAST-MODIFIED:20260102T222131Z
UID:10000216-1772789400-1772805600@cisc-seattle.org
SUMMARY:Russian-Speaking Senior Day Program (Bellevue)
DESCRIPTION:Participants enjoy a welcoming\, supportive environment with access to resources and culturally-relevant programming. The program operates Tuesdays and Fridays at the North Bellevue Community Center. Our team members design activities that will promote health\, social connections\, well-being\, and quality of life. This program is funded by the City of Bellevue and Amazon. \nLanguages: Russian\, Ukrainian \nAges: Older Adults \nHolidays may affect operating hours.
URL:https://cisc-seattle.org/event/russian-speaking-senior-day-program-bellevue/2026-03-06/
LOCATION:North Bellevue Community Center\, 4063 148th Ave NE\, Bellevue\, 98007\, United States
CATEGORIES:Older Adult Activities
ATTACH;FMTTYPE=image/jpeg:https://cisc-seattle.org/wp-content/uploads/2024/12/Senior-Day-Program.jpeg
END:VEVENT
BEGIN:VEVENT
DTSTART;TZID=America/Los_Angeles:20260306T130000
DTEND;TZID=America/Los_Angeles:20260306T140000
DTSTAMP:20260423T160709
CREATED:20260102T222847Z
LAST-MODIFIED:20260102T222847Z
UID:10000356-1772802000-1772805600@cisc-seattle.org
SUMMARY:Sunshine Garden: Tech Help
DESCRIPTION:Looking for help to learn more about your smartphone or tablet? Sunshine Garden Chinese Senior Community Center is offering drop-in technology help each week. Join us to learn how you can stay connected to family and friends\, use translation apps\, and much more. \nPlease check the Sunshine Garden calendar for the most updated schedule. \n 
URL:https://cisc-seattle.org/event/sunshine-garden-tech-help-5/2026-03-06/
LOCATION:Sunshine Garden\, 611 S Lane St\, Seattle\, WA\, 98104
CATEGORIES:Older Adult Activities
ATTACH;FMTTYPE=image/jpeg:https://cisc-seattle.org/wp-content/uploads/2024/12/pexels-thepaintedsquare-583842-scaled.jpg
ORGANIZER;CN="CISC":MAILTO:info@cisc-seattle.org
END:VEVENT
BEGIN:VEVENT
DTSTART;TZID=America/Los_Angeles:20260309T130000
DTEND;TZID=America/Los_Angeles:20260309T140000
DTSTAMP:20260423T160709
CREATED:20260102T235317Z
LAST-MODIFIED:20260102T235317Z
UID:10000512-1773061200-1773064800@cisc-seattle.org
SUMMARY:Sunshine Garden: Chinese Knot Crochet
DESCRIPTION:Learn and practice Chinese knot crochet skills with our instructor and participants. \nNote: Check our monthly Sunshine Garden calendar to confirm the class schedule prior to attending. \nSunshine Garden Archives – Chinese Information and Service Center
URL:https://cisc-seattle.org/event/sunshine-garden-chinese-knot-crochet/2026-03-09/
LOCATION:Sunshine Garden\, 611 S Lane St\, Seattle\, WA\, 98104
ATTACH;FMTTYPE=image/png:https://cisc-seattle.org/wp-content/uploads/2026/01/ChineseKnot.png
END:VEVENT
BEGIN:VEVENT
DTSTART;TZID=America/Los_Angeles:20260310T093000
DTEND;TZID=America/Los_Angeles:20260310T140000
DTSTAMP:20260423T160709
CREATED:20260102T222131Z
LAST-MODIFIED:20260102T222131Z
UID:10000217-1773135000-1773151200@cisc-seattle.org
SUMMARY:Russian-Speaking Senior Day Program (Bellevue)
DESCRIPTION:Participants enjoy a welcoming\, supportive environment with access to resources and culturally-relevant programming. The program operates Tuesdays and Fridays at the North Bellevue Community Center. Our team members design activities that will promote health\, social connections\, well-being\, and quality of life. This program is funded by the City of Bellevue and Amazon. \nLanguages: Russian\, Ukrainian \nAges: Older Adults \nHolidays may affect operating hours.
URL:https://cisc-seattle.org/event/russian-speaking-senior-day-program-bellevue/2026-03-10/
LOCATION:North Bellevue Community Center\, 4063 148th Ave NE\, Bellevue\, 98007\, United States
CATEGORIES:Older Adult Activities
ATTACH;FMTTYPE=image/jpeg:https://cisc-seattle.org/wp-content/uploads/2024/12/Senior-Day-Program.jpeg
END:VEVENT
BEGIN:VEVENT
DTSTART;TZID=America/Los_Angeles:20260311T103000
DTEND;TZID=America/Los_Angeles:20260311T113000
DTSTAMP:20260423T160709
CREATED:20260102T222615Z
LAST-MODIFIED:20260102T222615Z
UID:10000157-1773225000-1773228600@cisc-seattle.org
SUMMARY:Sunshine Garden: Basic Yoga
DESCRIPTION:Learn and practice basic yoga with our instructor and participants. \nNote: Check our monthly Sunshine Garden calendar to confirm the class schedule prior to attending. \nSunshine Garden Archives – Chinese Information and Service Center
URL:https://cisc-seattle.org/event/sunshine-garden-basic-yoga-3-2/2026-03-11/
LOCATION:Sunshine Garden\, 611 S Lane St\, Seattle\, WA\, 98104
ATTACH;FMTTYPE=image/jpeg:https://cisc-seattle.org/wp-content/uploads/2025/03/yoga-mats.jpg
END:VEVENT
BEGIN:VEVENT
DTSTART;TZID=America/Los_Angeles:20260313T093000
DTEND;TZID=America/Los_Angeles:20260313T140000
DTSTAMP:20260423T160709
CREATED:20260102T222131Z
LAST-MODIFIED:20260102T222131Z
UID:10000218-1773394200-1773410400@cisc-seattle.org
SUMMARY:Russian-Speaking Senior Day Program (Bellevue)
DESCRIPTION:Participants enjoy a welcoming\, supportive environment with access to resources and culturally-relevant programming. The program operates Tuesdays and Fridays at the North Bellevue Community Center. Our team members design activities that will promote health\, social connections\, well-being\, and quality of life. This program is funded by the City of Bellevue and Amazon. \nLanguages: Russian\, Ukrainian \nAges: Older Adults \nHolidays may affect operating hours.
URL:https://cisc-seattle.org/event/russian-speaking-senior-day-program-bellevue/2026-03-13/
LOCATION:North Bellevue Community Center\, 4063 148th Ave NE\, Bellevue\, 98007\, United States
CATEGORIES:Older Adult Activities
ATTACH;FMTTYPE=image/jpeg:https://cisc-seattle.org/wp-content/uploads/2024/12/Senior-Day-Program.jpeg
END:VEVENT
BEGIN:VEVENT
DTSTART;TZID=America/Los_Angeles:20260313T130000
DTEND;TZID=America/Los_Angeles:20260313T140000
DTSTAMP:20260423T160709
CREATED:20260102T222847Z
LAST-MODIFIED:20260102T222847Z
UID:10000357-1773406800-1773410400@cisc-seattle.org
SUMMARY:Sunshine Garden: Tech Help
DESCRIPTION:Looking for help to learn more about your smartphone or tablet? Sunshine Garden Chinese Senior Community Center is offering drop-in technology help each week. Join us to learn how you can stay connected to family and friends\, use translation apps\, and much more. \nPlease check the Sunshine Garden calendar for the most updated schedule. \n 
URL:https://cisc-seattle.org/event/sunshine-garden-tech-help-5/2026-03-13/
LOCATION:Sunshine Garden\, 611 S Lane St\, Seattle\, WA\, 98104
CATEGORIES:Older Adult Activities
ATTACH;FMTTYPE=image/jpeg:https://cisc-seattle.org/wp-content/uploads/2024/12/pexels-thepaintedsquare-583842-scaled.jpg
ORGANIZER;CN="CISC":MAILTO:info@cisc-seattle.org
END:VEVENT
BEGIN:VEVENT
DTSTART;TZID=America/Los_Angeles:20260316T130000
DTEND;TZID=America/Los_Angeles:20260316T140000
DTSTAMP:20260423T160709
CREATED:20260102T235317Z
LAST-MODIFIED:20260102T235317Z
UID:10000513-1773666000-1773669600@cisc-seattle.org
SUMMARY:Sunshine Garden: Chinese Knot Crochet
DESCRIPTION:Learn and practice Chinese knot crochet skills with our instructor and participants. \nNote: Check our monthly Sunshine Garden calendar to confirm the class schedule prior to attending. \nSunshine Garden Archives – Chinese Information and Service Center
URL:https://cisc-seattle.org/event/sunshine-garden-chinese-knot-crochet/2026-03-16/
LOCATION:Sunshine Garden\, 611 S Lane St\, Seattle\, WA\, 98104
ATTACH;FMTTYPE=image/png:https://cisc-seattle.org/wp-content/uploads/2026/01/ChineseKnot.png
END:VEVENT
BEGIN:VEVENT
DTSTART;TZID=America/Los_Angeles:20260317T093000
DTEND;TZID=America/Los_Angeles:20260317T140000
DTSTAMP:20260423T160709
CREATED:20260102T222131Z
LAST-MODIFIED:20260102T222131Z
UID:10000219-1773739800-1773756000@cisc-seattle.org
SUMMARY:Russian-Speaking Senior Day Program (Bellevue)
DESCRIPTION:Participants enjoy a welcoming\, supportive environment with access to resources and culturally-relevant programming. The program operates Tuesdays and Fridays at the North Bellevue Community Center. Our team members design activities that will promote health\, social connections\, well-being\, and quality of life. This program is funded by the City of Bellevue and Amazon. \nLanguages: Russian\, Ukrainian \nAges: Older Adults \nHolidays may affect operating hours.
URL:https://cisc-seattle.org/event/russian-speaking-senior-day-program-bellevue/2026-03-17/
LOCATION:North Bellevue Community Center\, 4063 148th Ave NE\, Bellevue\, 98007\, United States
CATEGORIES:Older Adult Activities
ATTACH;FMTTYPE=image/jpeg:https://cisc-seattle.org/wp-content/uploads/2024/12/Senior-Day-Program.jpeg
END:VEVENT
BEGIN:VEVENT
DTSTART;TZID=America/Los_Angeles:20260318T103000
DTEND;TZID=America/Los_Angeles:20260318T113000
DTSTAMP:20260423T160709
CREATED:20260102T222615Z
LAST-MODIFIED:20260102T222615Z
UID:10000158-1773829800-1773833400@cisc-seattle.org
SUMMARY:Sunshine Garden: Basic Yoga
DESCRIPTION:Learn and practice basic yoga with our instructor and participants. \nNote: Check our monthly Sunshine Garden calendar to confirm the class schedule prior to attending. \nSunshine Garden Archives – Chinese Information and Service Center
URL:https://cisc-seattle.org/event/sunshine-garden-basic-yoga-3-2/2026-03-18/
LOCATION:Sunshine Garden\, 611 S Lane St\, Seattle\, WA\, 98104
ATTACH;FMTTYPE=image/jpeg:https://cisc-seattle.org/wp-content/uploads/2025/03/yoga-mats.jpg
END:VEVENT
BEGIN:VEVENT
DTSTART;TZID=America/Los_Angeles:20260320T093000
DTEND;TZID=America/Los_Angeles:20260320T140000
DTSTAMP:20260423T160709
CREATED:20260102T222131Z
LAST-MODIFIED:20260102T222131Z
UID:10000220-1773999000-1774015200@cisc-seattle.org
SUMMARY:Russian-Speaking Senior Day Program (Bellevue)
DESCRIPTION:Participants enjoy a welcoming\, supportive environment with access to resources and culturally-relevant programming. The program operates Tuesdays and Fridays at the North Bellevue Community Center. Our team members design activities that will promote health\, social connections\, well-being\, and quality of life. This program is funded by the City of Bellevue and Amazon. \nLanguages: Russian\, Ukrainian \nAges: Older Adults \nHolidays may affect operating hours.
URL:https://cisc-seattle.org/event/russian-speaking-senior-day-program-bellevue/2026-03-20/
LOCATION:North Bellevue Community Center\, 4063 148th Ave NE\, Bellevue\, 98007\, United States
CATEGORIES:Older Adult Activities
ATTACH;FMTTYPE=image/jpeg:https://cisc-seattle.org/wp-content/uploads/2024/12/Senior-Day-Program.jpeg
END:VEVENT
BEGIN:VEVENT
DTSTART;TZID=America/Los_Angeles:20260320T130000
DTEND;TZID=America/Los_Angeles:20260320T140000
DTSTAMP:20260423T160709
CREATED:20260102T222847Z
LAST-MODIFIED:20260102T222847Z
UID:10000358-1774011600-1774015200@cisc-seattle.org
SUMMARY:Sunshine Garden: Tech Help
DESCRIPTION:Looking for help to learn more about your smartphone or tablet? Sunshine Garden Chinese Senior Community Center is offering drop-in technology help each week. Join us to learn how you can stay connected to family and friends\, use translation apps\, and much more. \nPlease check the Sunshine Garden calendar for the most updated schedule. \n 
URL:https://cisc-seattle.org/event/sunshine-garden-tech-help-5/2026-03-20/
LOCATION:Sunshine Garden\, 611 S Lane St\, Seattle\, WA\, 98104
CATEGORIES:Older Adult Activities
ATTACH;FMTTYPE=image/jpeg:https://cisc-seattle.org/wp-content/uploads/2024/12/pexels-thepaintedsquare-583842-scaled.jpg
ORGANIZER;CN="CISC":MAILTO:info@cisc-seattle.org
END:VEVENT
BEGIN:VEVENT
DTSTART;TZID=America/Los_Angeles:20260323T130000
DTEND;TZID=America/Los_Angeles:20260323T140000
DTSTAMP:20260423T160709
CREATED:20260102T235317Z
LAST-MODIFIED:20260102T235317Z
UID:10000514-1774270800-1774274400@cisc-seattle.org
SUMMARY:Sunshine Garden: Chinese Knot Crochet
DESCRIPTION:Learn and practice Chinese knot crochet skills with our instructor and participants. \nNote: Check our monthly Sunshine Garden calendar to confirm the class schedule prior to attending. \nSunshine Garden Archives – Chinese Information and Service Center
URL:https://cisc-seattle.org/event/sunshine-garden-chinese-knot-crochet/2026-03-23/
LOCATION:Sunshine Garden\, 611 S Lane St\, Seattle\, WA\, 98104
ATTACH;FMTTYPE=image/png:https://cisc-seattle.org/wp-content/uploads/2026/01/ChineseKnot.png
END:VEVENT
BEGIN:VEVENT
DTSTART;TZID=America/Los_Angeles:20260324T093000
DTEND;TZID=America/Los_Angeles:20260324T140000
DTSTAMP:20260423T160709
CREATED:20260102T222131Z
LAST-MODIFIED:20260102T222131Z
UID:10000221-1774344600-1774360800@cisc-seattle.org
SUMMARY:Russian-Speaking Senior Day Program (Bellevue)
DESCRIPTION:Participants enjoy a welcoming\, supportive environment with access to resources and culturally-relevant programming. The program operates Tuesdays and Fridays at the North Bellevue Community Center. Our team members design activities that will promote health\, social connections\, well-being\, and quality of life. This program is funded by the City of Bellevue and Amazon. \nLanguages: Russian\, Ukrainian \nAges: Older Adults \nHolidays may affect operating hours.
URL:https://cisc-seattle.org/event/russian-speaking-senior-day-program-bellevue/2026-03-24/
LOCATION:North Bellevue Community Center\, 4063 148th Ave NE\, Bellevue\, 98007\, United States
CATEGORIES:Older Adult Activities
ATTACH;FMTTYPE=image/jpeg:https://cisc-seattle.org/wp-content/uploads/2024/12/Senior-Day-Program.jpeg
END:VEVENT
BEGIN:VEVENT
DTSTART;TZID=America/Los_Angeles:20260325T103000
DTEND;TZID=America/Los_Angeles:20260325T113000
DTSTAMP:20260423T160709
CREATED:20260102T222615Z
LAST-MODIFIED:20260102T222615Z
UID:10000159-1774434600-1774438200@cisc-seattle.org
SUMMARY:Sunshine Garden: Basic Yoga
DESCRIPTION:Learn and practice basic yoga with our instructor and participants. \nNote: Check our monthly Sunshine Garden calendar to confirm the class schedule prior to attending. \nSunshine Garden Archives – Chinese Information and Service Center
URL:https://cisc-seattle.org/event/sunshine-garden-basic-yoga-3-2/2026-03-25/
LOCATION:Sunshine Garden\, 611 S Lane St\, Seattle\, WA\, 98104
ATTACH;FMTTYPE=image/jpeg:https://cisc-seattle.org/wp-content/uploads/2025/03/yoga-mats.jpg
END:VEVENT
BEGIN:VEVENT
DTSTART;TZID=America/Los_Angeles:20260327T093000
DTEND;TZID=America/Los_Angeles:20260327T140000
DTSTAMP:20260423T160709
CREATED:20260102T222131Z
LAST-MODIFIED:20260102T222131Z
UID:10000222-1774603800-1774620000@cisc-seattle.org
SUMMARY:Russian-Speaking Senior Day Program (Bellevue)
DESCRIPTION:Participants enjoy a welcoming\, supportive environment with access to resources and culturally-relevant programming. The program operates Tuesdays and Fridays at the North Bellevue Community Center. Our team members design activities that will promote health\, social connections\, well-being\, and quality of life. This program is funded by the City of Bellevue and Amazon. \nLanguages: Russian\, Ukrainian \nAges: Older Adults \nHolidays may affect operating hours.
URL:https://cisc-seattle.org/event/russian-speaking-senior-day-program-bellevue/2026-03-27/
LOCATION:North Bellevue Community Center\, 4063 148th Ave NE\, Bellevue\, 98007\, United States
CATEGORIES:Older Adult Activities
ATTACH;FMTTYPE=image/jpeg:https://cisc-seattle.org/wp-content/uploads/2024/12/Senior-Day-Program.jpeg
END:VEVENT
BEGIN:VEVENT
DTSTART;TZID=America/Los_Angeles:20260327T130000
DTEND;TZID=America/Los_Angeles:20260327T140000
DTSTAMP:20260423T160709
CREATED:20260102T222847Z
LAST-MODIFIED:20260102T222847Z
UID:10000359-1774616400-1774620000@cisc-seattle.org
SUMMARY:Sunshine Garden: Tech Help
DESCRIPTION:Looking for help to learn more about your smartphone or tablet? Sunshine Garden Chinese Senior Community Center is offering drop-in technology help each week. Join us to learn how you can stay connected to family and friends\, use translation apps\, and much more. \nPlease check the Sunshine Garden calendar for the most updated schedule. \n 
URL:https://cisc-seattle.org/event/sunshine-garden-tech-help-5/2026-03-27/
LOCATION:Sunshine Garden\, 611 S Lane St\, Seattle\, WA\, 98104
CATEGORIES:Older Adult Activities
ATTACH;FMTTYPE=image/jpeg:https://cisc-seattle.org/wp-content/uploads/2024/12/pexels-thepaintedsquare-583842-scaled.jpg
ORGANIZER;CN="CISC":MAILTO:info@cisc-seattle.org
END:VEVENT
BEGIN:VEVENT
DTSTART;TZID=America/Los_Angeles:20260330T130000
DTEND;TZID=America/Los_Angeles:20260330T140000
DTSTAMP:20260423T160709
CREATED:20260102T235317Z
LAST-MODIFIED:20260102T235317Z
UID:10000515-1774875600-1774879200@cisc-seattle.org
SUMMARY:Sunshine Garden: Chinese Knot Crochet
DESCRIPTION:Learn and practice Chinese knot crochet skills with our instructor and participants. \nNote: Check our monthly Sunshine Garden calendar to confirm the class schedule prior to attending. \nSunshine Garden Archives – Chinese Information and Service Center
URL:https://cisc-seattle.org/event/sunshine-garden-chinese-knot-crochet/2026-03-30/
LOCATION:Sunshine Garden\, 611 S Lane St\, Seattle\, WA\, 98104
ATTACH;FMTTYPE=image/png:https://cisc-seattle.org/wp-content/uploads/2026/01/ChineseKnot.png
END:VEVENT
BEGIN:VEVENT
DTSTART;TZID=America/Los_Angeles:20260331T093000
DTEND;TZID=America/Los_Angeles:20260331T140000
DTSTAMP:20260423T160709
CREATED:20260102T222131Z
LAST-MODIFIED:20260102T222131Z
UID:10000223-1774949400-1774965600@cisc-seattle.org
SUMMARY:Russian-Speaking Senior Day Program (Bellevue)
DESCRIPTION:Participants enjoy a welcoming\, supportive environment with access to resources and culturally-relevant programming. The program operates Tuesdays and Fridays at the North Bellevue Community Center. Our team members design activities that will promote health\, social connections\, well-being\, and quality of life. This program is funded by the City of Bellevue and Amazon. \nLanguages: Russian\, Ukrainian \nAges: Older Adults \nHolidays may affect operating hours.
URL:https://cisc-seattle.org/event/russian-speaking-senior-day-program-bellevue/2026-03-31/
LOCATION:North Bellevue Community Center\, 4063 148th Ave NE\, Bellevue\, 98007\, United States
CATEGORIES:Older Adult Activities
ATTACH;FMTTYPE=image/jpeg:https://cisc-seattle.org/wp-content/uploads/2024/12/Senior-Day-Program.jpeg
END:VEVENT
END:VCALENDAR