BEGIN:VCALENDAR
VERSION:2.0
PRODID:-//CISC - ECPv6.15.20//NONSGML v1.0//EN
CALSCALE:GREGORIAN
METHOD:PUBLISH
X-WR-CALNAME:CISC
X-ORIGINAL-URL:https://cisc-seattle.org
X-WR-CALDESC:Events for CISC
REFRESH-INTERVAL;VALUE=DURATION:PT1H
X-Robots-Tag:noindex
X-PUBLISHED-TTL:PT1H
BEGIN:VTIMEZONE
TZID:America/Los_Angeles
BEGIN:DAYLIGHT
TZOFFSETFROM:-0800
TZOFFSETTO:-0700
TZNAME:PDT
DTSTART:20250309T100000
END:DAYLIGHT
BEGIN:STANDARD
TZOFFSETFROM:-0700
TZOFFSETTO:-0800
TZNAME:PST
DTSTART:20251102T090000
END:STANDARD
BEGIN:DAYLIGHT
TZOFFSETFROM:-0800
TZOFFSETTO:-0700
TZNAME:PDT
DTSTART:20260308T100000
END:DAYLIGHT
BEGIN:STANDARD
TZOFFSETFROM:-0700
TZOFFSETTO:-0800
TZNAME:PST
DTSTART:20261101T090000
END:STANDARD
BEGIN:DAYLIGHT
TZOFFSETFROM:-0800
TZOFFSETTO:-0700
TZNAME:PDT
DTSTART:20270314T100000
END:DAYLIGHT
BEGIN:STANDARD
TZOFFSETFROM:-0700
TZOFFSETTO:-0800
TZNAME:PST
DTSTART:20271107T090000
END:STANDARD
END:VTIMEZONE
BEGIN:VEVENT
DTSTART;TZID=America/Los_Angeles:20260501T093000
DTEND;TZID=America/Los_Angeles:20260501T140000
DTSTAMP:20260423T161246
CREATED:20260102T222131Z
LAST-MODIFIED:20260102T222131Z
UID:10000232-1777627800-1777644000@cisc-seattle.org
SUMMARY:Russian-Speaking Senior Day Program (Bellevue)
DESCRIPTION:Participants enjoy a welcoming\, supportive environment with access to resources and culturally-relevant programming. The program operates Tuesdays and Fridays at the North Bellevue Community Center. Our team members design activities that will promote health\, social connections\, well-being\, and quality of life. This program is funded by the City of Bellevue and Amazon. \nLanguages: Russian\, Ukrainian \nAges: Older Adults \nHolidays may affect operating hours.
URL:https://cisc-seattle.org/event/russian-speaking-senior-day-program-bellevue/2026-05-01/
LOCATION:North Bellevue Community Center\, 4063 148th Ave NE\, Bellevue\, 98007\, United States
CATEGORIES:Older Adult Activities
ATTACH;FMTTYPE=image/jpeg:https://cisc-seattle.org/wp-content/uploads/2024/12/Senior-Day-Program.jpeg
END:VEVENT
BEGIN:VEVENT
DTSTART;TZID=America/Los_Angeles:20260501T130000
DTEND;TZID=America/Los_Angeles:20260501T140000
DTSTAMP:20260423T161246
CREATED:20260102T222847Z
LAST-MODIFIED:20260102T222847Z
UID:10000364-1777640400-1777644000@cisc-seattle.org
SUMMARY:Sunshine Garden: Tech Help
DESCRIPTION:Looking for help to learn more about your smartphone or tablet? Sunshine Garden Chinese Senior Community Center is offering drop-in technology help each week. Join us to learn how you can stay connected to family and friends\, use translation apps\, and much more. \nPlease check the Sunshine Garden calendar for the most updated schedule. \n 
URL:https://cisc-seattle.org/event/sunshine-garden-tech-help-5/2026-05-01/
LOCATION:Sunshine Garden\, 611 S Lane St\, Seattle\, WA\, 98104
CATEGORIES:Older Adult Activities
ATTACH;FMTTYPE=image/jpeg:https://cisc-seattle.org/wp-content/uploads/2024/12/pexels-thepaintedsquare-583842-scaled.jpg
ORGANIZER;CN="CISC":MAILTO:info@cisc-seattle.org
END:VEVENT
BEGIN:VEVENT
DTSTART;TZID=America/Los_Angeles:20260504T130000
DTEND;TZID=America/Los_Angeles:20260504T140000
DTSTAMP:20260423T161246
CREATED:20260102T235317Z
LAST-MODIFIED:20260102T235317Z
UID:10000520-1777899600-1777903200@cisc-seattle.org
SUMMARY:Sunshine Garden: Chinese Knot Crochet
DESCRIPTION:Learn and practice Chinese knot crochet skills with our instructor and participants. \nNote: Check our monthly Sunshine Garden calendar to confirm the class schedule prior to attending. \nSunshine Garden Archives – Chinese Information and Service Center
URL:https://cisc-seattle.org/event/sunshine-garden-chinese-knot-crochet/2026-05-04/
LOCATION:Sunshine Garden\, 611 S Lane St\, Seattle\, WA\, 98104
ATTACH;FMTTYPE=image/png:https://cisc-seattle.org/wp-content/uploads/2026/01/ChineseKnot.png
END:VEVENT
BEGIN:VEVENT
DTSTART;TZID=America/Los_Angeles:20260505T093000
DTEND;TZID=America/Los_Angeles:20260505T140000
DTSTAMP:20260423T161246
CREATED:20260102T222131Z
LAST-MODIFIED:20260102T222131Z
UID:10000233-1777973400-1777989600@cisc-seattle.org
SUMMARY:Russian-Speaking Senior Day Program (Bellevue)
DESCRIPTION:Participants enjoy a welcoming\, supportive environment with access to resources and culturally-relevant programming. The program operates Tuesdays and Fridays at the North Bellevue Community Center. Our team members design activities that will promote health\, social connections\, well-being\, and quality of life. This program is funded by the City of Bellevue and Amazon. \nLanguages: Russian\, Ukrainian \nAges: Older Adults \nHolidays may affect operating hours.
URL:https://cisc-seattle.org/event/russian-speaking-senior-day-program-bellevue/2026-05-05/
LOCATION:North Bellevue Community Center\, 4063 148th Ave NE\, Bellevue\, 98007\, United States
CATEGORIES:Older Adult Activities
ATTACH;FMTTYPE=image/jpeg:https://cisc-seattle.org/wp-content/uploads/2024/12/Senior-Day-Program.jpeg
END:VEVENT
BEGIN:VEVENT
DTSTART;TZID=America/Los_Angeles:20260506T103000
DTEND;TZID=America/Los_Angeles:20260506T113000
DTSTAMP:20260423T161246
CREATED:20260102T222615Z
LAST-MODIFIED:20260102T222615Z
UID:10000165-1778063400-1778067000@cisc-seattle.org
SUMMARY:Sunshine Garden: Basic Yoga
DESCRIPTION:Learn and practice basic yoga with our instructor and participants. \nNote: Check our monthly Sunshine Garden calendar to confirm the class schedule prior to attending. \nSunshine Garden Archives – Chinese Information and Service Center
URL:https://cisc-seattle.org/event/sunshine-garden-basic-yoga-3-2/2026-05-06/
LOCATION:Sunshine Garden\, 611 S Lane St\, Seattle\, WA\, 98104
ATTACH;FMTTYPE=image/jpeg:https://cisc-seattle.org/wp-content/uploads/2025/03/yoga-mats.jpg
END:VEVENT
BEGIN:VEVENT
DTSTART;TZID=America/Los_Angeles:20260508T093000
DTEND;TZID=America/Los_Angeles:20260508T140000
DTSTAMP:20260423T161246
CREATED:20260102T222131Z
LAST-MODIFIED:20260102T222131Z
UID:10000234-1778232600-1778248800@cisc-seattle.org
SUMMARY:Russian-Speaking Senior Day Program (Bellevue)
DESCRIPTION:Participants enjoy a welcoming\, supportive environment with access to resources and culturally-relevant programming. The program operates Tuesdays and Fridays at the North Bellevue Community Center. Our team members design activities that will promote health\, social connections\, well-being\, and quality of life. This program is funded by the City of Bellevue and Amazon. \nLanguages: Russian\, Ukrainian \nAges: Older Adults \nHolidays may affect operating hours.
URL:https://cisc-seattle.org/event/russian-speaking-senior-day-program-bellevue/2026-05-08/
LOCATION:North Bellevue Community Center\, 4063 148th Ave NE\, Bellevue\, 98007\, United States
CATEGORIES:Older Adult Activities
ATTACH;FMTTYPE=image/jpeg:https://cisc-seattle.org/wp-content/uploads/2024/12/Senior-Day-Program.jpeg
END:VEVENT
BEGIN:VEVENT
DTSTART;TZID=America/Los_Angeles:20260508T130000
DTEND;TZID=America/Los_Angeles:20260508T140000
DTSTAMP:20260423T161246
CREATED:20260102T222847Z
LAST-MODIFIED:20260102T222847Z
UID:10000365-1778245200-1778248800@cisc-seattle.org
SUMMARY:Sunshine Garden: Tech Help
DESCRIPTION:Looking for help to learn more about your smartphone or tablet? Sunshine Garden Chinese Senior Community Center is offering drop-in technology help each week. Join us to learn how you can stay connected to family and friends\, use translation apps\, and much more. \nPlease check the Sunshine Garden calendar for the most updated schedule. \n 
URL:https://cisc-seattle.org/event/sunshine-garden-tech-help-5/2026-05-08/
LOCATION:Sunshine Garden\, 611 S Lane St\, Seattle\, WA\, 98104
CATEGORIES:Older Adult Activities
ATTACH;FMTTYPE=image/jpeg:https://cisc-seattle.org/wp-content/uploads/2024/12/pexels-thepaintedsquare-583842-scaled.jpg
ORGANIZER;CN="CISC":MAILTO:info@cisc-seattle.org
END:VEVENT
BEGIN:VEVENT
DTSTART;TZID=America/Los_Angeles:20260511T130000
DTEND;TZID=America/Los_Angeles:20260511T140000
DTSTAMP:20260423T161246
CREATED:20260102T235317Z
LAST-MODIFIED:20260102T235317Z
UID:10000521-1778504400-1778508000@cisc-seattle.org
SUMMARY:Sunshine Garden: Chinese Knot Crochet
DESCRIPTION:Learn and practice Chinese knot crochet skills with our instructor and participants. \nNote: Check our monthly Sunshine Garden calendar to confirm the class schedule prior to attending. \nSunshine Garden Archives – Chinese Information and Service Center
URL:https://cisc-seattle.org/event/sunshine-garden-chinese-knot-crochet/2026-05-11/
LOCATION:Sunshine Garden\, 611 S Lane St\, Seattle\, WA\, 98104
ATTACH;FMTTYPE=image/png:https://cisc-seattle.org/wp-content/uploads/2026/01/ChineseKnot.png
END:VEVENT
BEGIN:VEVENT
DTSTART;TZID=America/Los_Angeles:20260512T093000
DTEND;TZID=America/Los_Angeles:20260512T140000
DTSTAMP:20260423T161246
CREATED:20260102T222131Z
LAST-MODIFIED:20260102T222131Z
UID:10000235-1778578200-1778594400@cisc-seattle.org
SUMMARY:Russian-Speaking Senior Day Program (Bellevue)
DESCRIPTION:Participants enjoy a welcoming\, supportive environment with access to resources and culturally-relevant programming. The program operates Tuesdays and Fridays at the North Bellevue Community Center. Our team members design activities that will promote health\, social connections\, well-being\, and quality of life. This program is funded by the City of Bellevue and Amazon. \nLanguages: Russian\, Ukrainian \nAges: Older Adults \nHolidays may affect operating hours.
URL:https://cisc-seattle.org/event/russian-speaking-senior-day-program-bellevue/2026-05-12/
LOCATION:North Bellevue Community Center\, 4063 148th Ave NE\, Bellevue\, 98007\, United States
CATEGORIES:Older Adult Activities
ATTACH;FMTTYPE=image/jpeg:https://cisc-seattle.org/wp-content/uploads/2024/12/Senior-Day-Program.jpeg
END:VEVENT
BEGIN:VEVENT
DTSTART;TZID=America/Los_Angeles:20260513T103000
DTEND;TZID=America/Los_Angeles:20260513T113000
DTSTAMP:20260423T161246
CREATED:20260102T222615Z
LAST-MODIFIED:20260102T222615Z
UID:10000166-1778668200-1778671800@cisc-seattle.org
SUMMARY:Sunshine Garden: Basic Yoga
DESCRIPTION:Learn and practice basic yoga with our instructor and participants. \nNote: Check our monthly Sunshine Garden calendar to confirm the class schedule prior to attending. \nSunshine Garden Archives – Chinese Information and Service Center
URL:https://cisc-seattle.org/event/sunshine-garden-basic-yoga-3-2/2026-05-13/
LOCATION:Sunshine Garden\, 611 S Lane St\, Seattle\, WA\, 98104
ATTACH;FMTTYPE=image/jpeg:https://cisc-seattle.org/wp-content/uploads/2025/03/yoga-mats.jpg
END:VEVENT
BEGIN:VEVENT
DTSTART;TZID=America/Los_Angeles:20260515T093000
DTEND;TZID=America/Los_Angeles:20260515T140000
DTSTAMP:20260423T161246
CREATED:20260102T222131Z
LAST-MODIFIED:20260102T222131Z
UID:10000236-1778837400-1778853600@cisc-seattle.org
SUMMARY:Russian-Speaking Senior Day Program (Bellevue)
DESCRIPTION:Participants enjoy a welcoming\, supportive environment with access to resources and culturally-relevant programming. The program operates Tuesdays and Fridays at the North Bellevue Community Center. Our team members design activities that will promote health\, social connections\, well-being\, and quality of life. This program is funded by the City of Bellevue and Amazon. \nLanguages: Russian\, Ukrainian \nAges: Older Adults \nHolidays may affect operating hours.
URL:https://cisc-seattle.org/event/russian-speaking-senior-day-program-bellevue/2026-05-15/
LOCATION:North Bellevue Community Center\, 4063 148th Ave NE\, Bellevue\, 98007\, United States
CATEGORIES:Older Adult Activities
ATTACH;FMTTYPE=image/jpeg:https://cisc-seattle.org/wp-content/uploads/2024/12/Senior-Day-Program.jpeg
END:VEVENT
BEGIN:VEVENT
DTSTART;TZID=America/Los_Angeles:20260515T130000
DTEND;TZID=America/Los_Angeles:20260515T140000
DTSTAMP:20260423T161246
CREATED:20260102T222847Z
LAST-MODIFIED:20260102T222847Z
UID:10000366-1778850000-1778853600@cisc-seattle.org
SUMMARY:Sunshine Garden: Tech Help
DESCRIPTION:Looking for help to learn more about your smartphone or tablet? Sunshine Garden Chinese Senior Community Center is offering drop-in technology help each week. Join us to learn how you can stay connected to family and friends\, use translation apps\, and much more. \nPlease check the Sunshine Garden calendar for the most updated schedule. \n 
URL:https://cisc-seattle.org/event/sunshine-garden-tech-help-5/2026-05-15/
LOCATION:Sunshine Garden\, 611 S Lane St\, Seattle\, WA\, 98104
CATEGORIES:Older Adult Activities
ATTACH;FMTTYPE=image/jpeg:https://cisc-seattle.org/wp-content/uploads/2024/12/pexels-thepaintedsquare-583842-scaled.jpg
ORGANIZER;CN="CISC":MAILTO:info@cisc-seattle.org
END:VEVENT
BEGIN:VEVENT
DTSTART;TZID=America/Los_Angeles:20260518T130000
DTEND;TZID=America/Los_Angeles:20260518T140000
DTSTAMP:20260423T161246
CREATED:20260102T235317Z
LAST-MODIFIED:20260102T235317Z
UID:10000522-1779109200-1779112800@cisc-seattle.org
SUMMARY:Sunshine Garden: Chinese Knot Crochet
DESCRIPTION:Learn and practice Chinese knot crochet skills with our instructor and participants. \nNote: Check our monthly Sunshine Garden calendar to confirm the class schedule prior to attending. \nSunshine Garden Archives – Chinese Information and Service Center
URL:https://cisc-seattle.org/event/sunshine-garden-chinese-knot-crochet/2026-05-18/
LOCATION:Sunshine Garden\, 611 S Lane St\, Seattle\, WA\, 98104
ATTACH;FMTTYPE=image/png:https://cisc-seattle.org/wp-content/uploads/2026/01/ChineseKnot.png
END:VEVENT
BEGIN:VEVENT
DTSTART;TZID=America/Los_Angeles:20260519T093000
DTEND;TZID=America/Los_Angeles:20260519T140000
DTSTAMP:20260423T161246
CREATED:20260102T222131Z
LAST-MODIFIED:20260102T222131Z
UID:10000237-1779183000-1779199200@cisc-seattle.org
SUMMARY:Russian-Speaking Senior Day Program (Bellevue)
DESCRIPTION:Participants enjoy a welcoming\, supportive environment with access to resources and culturally-relevant programming. The program operates Tuesdays and Fridays at the North Bellevue Community Center. Our team members design activities that will promote health\, social connections\, well-being\, and quality of life. This program is funded by the City of Bellevue and Amazon. \nLanguages: Russian\, Ukrainian \nAges: Older Adults \nHolidays may affect operating hours.
URL:https://cisc-seattle.org/event/russian-speaking-senior-day-program-bellevue/2026-05-19/
LOCATION:North Bellevue Community Center\, 4063 148th Ave NE\, Bellevue\, 98007\, United States
CATEGORIES:Older Adult Activities
ATTACH;FMTTYPE=image/jpeg:https://cisc-seattle.org/wp-content/uploads/2024/12/Senior-Day-Program.jpeg
END:VEVENT
BEGIN:VEVENT
DTSTART;TZID=America/Los_Angeles:20260520T103000
DTEND;TZID=America/Los_Angeles:20260520T113000
DTSTAMP:20260423T161246
CREATED:20260102T222615Z
LAST-MODIFIED:20260102T222615Z
UID:10000167-1779273000-1779276600@cisc-seattle.org
SUMMARY:Sunshine Garden: Basic Yoga
DESCRIPTION:Learn and practice basic yoga with our instructor and participants. \nNote: Check our monthly Sunshine Garden calendar to confirm the class schedule prior to attending. \nSunshine Garden Archives – Chinese Information and Service Center
URL:https://cisc-seattle.org/event/sunshine-garden-basic-yoga-3-2/2026-05-20/
LOCATION:Sunshine Garden\, 611 S Lane St\, Seattle\, WA\, 98104
ATTACH;FMTTYPE=image/jpeg:https://cisc-seattle.org/wp-content/uploads/2025/03/yoga-mats.jpg
END:VEVENT
BEGIN:VEVENT
DTSTART;TZID=America/Los_Angeles:20260522T093000
DTEND;TZID=America/Los_Angeles:20260522T140000
DTSTAMP:20260423T161246
CREATED:20260102T222131Z
LAST-MODIFIED:20260102T222131Z
UID:10000238-1779442200-1779458400@cisc-seattle.org
SUMMARY:Russian-Speaking Senior Day Program (Bellevue)
DESCRIPTION:Participants enjoy a welcoming\, supportive environment with access to resources and culturally-relevant programming. The program operates Tuesdays and Fridays at the North Bellevue Community Center. Our team members design activities that will promote health\, social connections\, well-being\, and quality of life. This program is funded by the City of Bellevue and Amazon. \nLanguages: Russian\, Ukrainian \nAges: Older Adults \nHolidays may affect operating hours.
URL:https://cisc-seattle.org/event/russian-speaking-senior-day-program-bellevue/2026-05-22/
LOCATION:North Bellevue Community Center\, 4063 148th Ave NE\, Bellevue\, 98007\, United States
CATEGORIES:Older Adult Activities
ATTACH;FMTTYPE=image/jpeg:https://cisc-seattle.org/wp-content/uploads/2024/12/Senior-Day-Program.jpeg
END:VEVENT
BEGIN:VEVENT
DTSTART;TZID=America/Los_Angeles:20260522T130000
DTEND;TZID=America/Los_Angeles:20260522T140000
DTSTAMP:20260423T161246
CREATED:20260102T222847Z
LAST-MODIFIED:20260102T222847Z
UID:10000367-1779454800-1779458400@cisc-seattle.org
SUMMARY:Sunshine Garden: Tech Help
DESCRIPTION:Looking for help to learn more about your smartphone or tablet? Sunshine Garden Chinese Senior Community Center is offering drop-in technology help each week. Join us to learn how you can stay connected to family and friends\, use translation apps\, and much more. \nPlease check the Sunshine Garden calendar for the most updated schedule. \n 
URL:https://cisc-seattle.org/event/sunshine-garden-tech-help-5/2026-05-22/
LOCATION:Sunshine Garden\, 611 S Lane St\, Seattle\, WA\, 98104
CATEGORIES:Older Adult Activities
ATTACH;FMTTYPE=image/jpeg:https://cisc-seattle.org/wp-content/uploads/2024/12/pexels-thepaintedsquare-583842-scaled.jpg
ORGANIZER;CN="CISC":MAILTO:info@cisc-seattle.org
END:VEVENT
BEGIN:VEVENT
DTSTART;TZID=America/Los_Angeles:20260525T130000
DTEND;TZID=America/Los_Angeles:20260525T140000
DTSTAMP:20260423T161246
CREATED:20260102T235317Z
LAST-MODIFIED:20260102T235317Z
UID:10000523-1779714000-1779717600@cisc-seattle.org
SUMMARY:Sunshine Garden: Chinese Knot Crochet
DESCRIPTION:Learn and practice Chinese knot crochet skills with our instructor and participants. \nNote: Check our monthly Sunshine Garden calendar to confirm the class schedule prior to attending. \nSunshine Garden Archives – Chinese Information and Service Center
URL:https://cisc-seattle.org/event/sunshine-garden-chinese-knot-crochet/2026-05-25/
LOCATION:Sunshine Garden\, 611 S Lane St\, Seattle\, WA\, 98104
ATTACH;FMTTYPE=image/png:https://cisc-seattle.org/wp-content/uploads/2026/01/ChineseKnot.png
END:VEVENT
BEGIN:VEVENT
DTSTART;TZID=America/Los_Angeles:20260526T093000
DTEND;TZID=America/Los_Angeles:20260526T140000
DTSTAMP:20260423T161246
CREATED:20260102T222131Z
LAST-MODIFIED:20260102T222131Z
UID:10000239-1779787800-1779804000@cisc-seattle.org
SUMMARY:Russian-Speaking Senior Day Program (Bellevue)
DESCRIPTION:Participants enjoy a welcoming\, supportive environment with access to resources and culturally-relevant programming. The program operates Tuesdays and Fridays at the North Bellevue Community Center. Our team members design activities that will promote health\, social connections\, well-being\, and quality of life. This program is funded by the City of Bellevue and Amazon. \nLanguages: Russian\, Ukrainian \nAges: Older Adults \nHolidays may affect operating hours.
URL:https://cisc-seattle.org/event/russian-speaking-senior-day-program-bellevue/2026-05-26/
LOCATION:North Bellevue Community Center\, 4063 148th Ave NE\, Bellevue\, 98007\, United States
CATEGORIES:Older Adult Activities
ATTACH;FMTTYPE=image/jpeg:https://cisc-seattle.org/wp-content/uploads/2024/12/Senior-Day-Program.jpeg
END:VEVENT
BEGIN:VEVENT
DTSTART;TZID=America/Los_Angeles:20260527T103000
DTEND;TZID=America/Los_Angeles:20260527T113000
DTSTAMP:20260423T161246
CREATED:20260102T222615Z
LAST-MODIFIED:20260102T222615Z
UID:10000168-1779877800-1779881400@cisc-seattle.org
SUMMARY:Sunshine Garden: Basic Yoga
DESCRIPTION:Learn and practice basic yoga with our instructor and participants. \nNote: Check our monthly Sunshine Garden calendar to confirm the class schedule prior to attending. \nSunshine Garden Archives – Chinese Information and Service Center
URL:https://cisc-seattle.org/event/sunshine-garden-basic-yoga-3-2/2026-05-27/
LOCATION:Sunshine Garden\, 611 S Lane St\, Seattle\, WA\, 98104
ATTACH;FMTTYPE=image/jpeg:https://cisc-seattle.org/wp-content/uploads/2025/03/yoga-mats.jpg
END:VEVENT
BEGIN:VEVENT
DTSTART;TZID=America/Los_Angeles:20260529T093000
DTEND;TZID=America/Los_Angeles:20260529T140000
DTSTAMP:20260423T161246
CREATED:20260102T222131Z
LAST-MODIFIED:20260102T222131Z
UID:10000240-1780047000-1780063200@cisc-seattle.org
SUMMARY:Russian-Speaking Senior Day Program (Bellevue)
DESCRIPTION:Participants enjoy a welcoming\, supportive environment with access to resources and culturally-relevant programming. The program operates Tuesdays and Fridays at the North Bellevue Community Center. Our team members design activities that will promote health\, social connections\, well-being\, and quality of life. This program is funded by the City of Bellevue and Amazon. \nLanguages: Russian\, Ukrainian \nAges: Older Adults \nHolidays may affect operating hours.
URL:https://cisc-seattle.org/event/russian-speaking-senior-day-program-bellevue/2026-05-29/
LOCATION:North Bellevue Community Center\, 4063 148th Ave NE\, Bellevue\, 98007\, United States
CATEGORIES:Older Adult Activities
ATTACH;FMTTYPE=image/jpeg:https://cisc-seattle.org/wp-content/uploads/2024/12/Senior-Day-Program.jpeg
END:VEVENT
BEGIN:VEVENT
DTSTART;TZID=America/Los_Angeles:20260529T130000
DTEND;TZID=America/Los_Angeles:20260529T140000
DTSTAMP:20260423T161246
CREATED:20260102T222847Z
LAST-MODIFIED:20260102T222847Z
UID:10000368-1780059600-1780063200@cisc-seattle.org
SUMMARY:Sunshine Garden: Tech Help
DESCRIPTION:Looking for help to learn more about your smartphone or tablet? Sunshine Garden Chinese Senior Community Center is offering drop-in technology help each week. Join us to learn how you can stay connected to family and friends\, use translation apps\, and much more. \nPlease check the Sunshine Garden calendar for the most updated schedule. \n 
URL:https://cisc-seattle.org/event/sunshine-garden-tech-help-5/2026-05-29/
LOCATION:Sunshine Garden\, 611 S Lane St\, Seattle\, WA\, 98104
CATEGORIES:Older Adult Activities
ATTACH;FMTTYPE=image/jpeg:https://cisc-seattle.org/wp-content/uploads/2024/12/pexels-thepaintedsquare-583842-scaled.jpg
ORGANIZER;CN="CISC":MAILTO:info@cisc-seattle.org
END:VEVENT
END:VCALENDAR