BEGIN:VCALENDAR
VERSION:2.0
PRODID:-//CISC - ECPv6.15.20//NONSGML v1.0//EN
CALSCALE:GREGORIAN
METHOD:PUBLISH
X-WR-CALNAME:CISC
X-ORIGINAL-URL:https://cisc-seattle.org
X-WR-CALDESC:Events for CISC
REFRESH-INTERVAL;VALUE=DURATION:PT1H
X-Robots-Tag:noindex
X-PUBLISHED-TTL:PT1H
BEGIN:VTIMEZONE
TZID:America/Los_Angeles
BEGIN:DAYLIGHT
TZOFFSETFROM:-0800
TZOFFSETTO:-0700
TZNAME:PDT
DTSTART:20250309T100000
END:DAYLIGHT
BEGIN:STANDARD
TZOFFSETFROM:-0700
TZOFFSETTO:-0800
TZNAME:PST
DTSTART:20251102T090000
END:STANDARD
BEGIN:DAYLIGHT
TZOFFSETFROM:-0800
TZOFFSETTO:-0700
TZNAME:PDT
DTSTART:20260308T100000
END:DAYLIGHT
BEGIN:STANDARD
TZOFFSETFROM:-0700
TZOFFSETTO:-0800
TZNAME:PST
DTSTART:20261101T090000
END:STANDARD
BEGIN:DAYLIGHT
TZOFFSETFROM:-0800
TZOFFSETTO:-0700
TZNAME:PDT
DTSTART:20270314T100000
END:DAYLIGHT
BEGIN:STANDARD
TZOFFSETFROM:-0700
TZOFFSETTO:-0800
TZNAME:PST
DTSTART:20271107T090000
END:STANDARD
END:VTIMEZONE
BEGIN:VEVENT
DTSTART;TZID=America/Los_Angeles:20260427T130000
DTEND;TZID=America/Los_Angeles:20260427T140000
DTSTAMP:20260423T100525
CREATED:20260102T235317Z
LAST-MODIFIED:20260102T235317Z
UID:10000519-1777294800-1777298400@cisc-seattle.org
SUMMARY:Sunshine Garden: Chinese Knot Crochet
DESCRIPTION:Learn and practice Chinese knot crochet skills with our instructor and participants. \nNote: Check our monthly Sunshine Garden calendar to confirm the class schedule prior to attending. \nSunshine Garden Archives – Chinese Information and Service Center
URL:https://cisc-seattle.org/event/sunshine-garden-chinese-knot-crochet/2026-04-27/
LOCATION:Sunshine Garden\, 611 S Lane St\, Seattle\, WA\, 98104
ATTACH;FMTTYPE=image/png:https://cisc-seattle.org/wp-content/uploads/2026/01/ChineseKnot.png
END:VEVENT
BEGIN:VEVENT
DTSTART;TZID=America/Los_Angeles:20260429T103000
DTEND;TZID=America/Los_Angeles:20260429T113000
DTSTAMP:20260423T100525
CREATED:20260102T222615Z
LAST-MODIFIED:20260102T222615Z
UID:10000164-1777458600-1777462200@cisc-seattle.org
SUMMARY:Sunshine Garden: Basic Yoga
DESCRIPTION:Learn and practice basic yoga with our instructor and participants. \nNote: Check our monthly Sunshine Garden calendar to confirm the class schedule prior to attending. \nSunshine Garden Archives – Chinese Information and Service Center
URL:https://cisc-seattle.org/event/sunshine-garden-basic-yoga-3-2/2026-04-29/
LOCATION:Sunshine Garden\, 611 S Lane St\, Seattle\, WA\, 98104
ATTACH;FMTTYPE=image/jpeg:https://cisc-seattle.org/wp-content/uploads/2025/03/yoga-mats.jpg
END:VEVENT
BEGIN:VEVENT
DTSTART;TZID=America/Los_Angeles:20260504T130000
DTEND;TZID=America/Los_Angeles:20260504T140000
DTSTAMP:20260423T100525
CREATED:20260102T235317Z
LAST-MODIFIED:20260102T235317Z
UID:10000520-1777899600-1777903200@cisc-seattle.org
SUMMARY:Sunshine Garden: Chinese Knot Crochet
DESCRIPTION:Learn and practice Chinese knot crochet skills with our instructor and participants. \nNote: Check our monthly Sunshine Garden calendar to confirm the class schedule prior to attending. \nSunshine Garden Archives – Chinese Information and Service Center
URL:https://cisc-seattle.org/event/sunshine-garden-chinese-knot-crochet/2026-05-04/
LOCATION:Sunshine Garden\, 611 S Lane St\, Seattle\, WA\, 98104
ATTACH;FMTTYPE=image/png:https://cisc-seattle.org/wp-content/uploads/2026/01/ChineseKnot.png
END:VEVENT
BEGIN:VEVENT
DTSTART;TZID=America/Los_Angeles:20260506T103000
DTEND;TZID=America/Los_Angeles:20260506T113000
DTSTAMP:20260423T100525
CREATED:20260102T222615Z
LAST-MODIFIED:20260102T222615Z
UID:10000165-1778063400-1778067000@cisc-seattle.org
SUMMARY:Sunshine Garden: Basic Yoga
DESCRIPTION:Learn and practice basic yoga with our instructor and participants. \nNote: Check our monthly Sunshine Garden calendar to confirm the class schedule prior to attending. \nSunshine Garden Archives – Chinese Information and Service Center
URL:https://cisc-seattle.org/event/sunshine-garden-basic-yoga-3-2/2026-05-06/
LOCATION:Sunshine Garden\, 611 S Lane St\, Seattle\, WA\, 98104
ATTACH;FMTTYPE=image/jpeg:https://cisc-seattle.org/wp-content/uploads/2025/03/yoga-mats.jpg
END:VEVENT
BEGIN:VEVENT
DTSTART;TZID=America/Los_Angeles:20260511T130000
DTEND;TZID=America/Los_Angeles:20260511T140000
DTSTAMP:20260423T100525
CREATED:20260102T235317Z
LAST-MODIFIED:20260102T235317Z
UID:10000521-1778504400-1778508000@cisc-seattle.org
SUMMARY:Sunshine Garden: Chinese Knot Crochet
DESCRIPTION:Learn and practice Chinese knot crochet skills with our instructor and participants. \nNote: Check our monthly Sunshine Garden calendar to confirm the class schedule prior to attending. \nSunshine Garden Archives – Chinese Information and Service Center
URL:https://cisc-seattle.org/event/sunshine-garden-chinese-knot-crochet/2026-05-11/
LOCATION:Sunshine Garden\, 611 S Lane St\, Seattle\, WA\, 98104
ATTACH;FMTTYPE=image/png:https://cisc-seattle.org/wp-content/uploads/2026/01/ChineseKnot.png
END:VEVENT
BEGIN:VEVENT
DTSTART;TZID=America/Los_Angeles:20260513T103000
DTEND;TZID=America/Los_Angeles:20260513T113000
DTSTAMP:20260423T100525
CREATED:20260102T222615Z
LAST-MODIFIED:20260102T222615Z
UID:10000166-1778668200-1778671800@cisc-seattle.org
SUMMARY:Sunshine Garden: Basic Yoga
DESCRIPTION:Learn and practice basic yoga with our instructor and participants. \nNote: Check our monthly Sunshine Garden calendar to confirm the class schedule prior to attending. \nSunshine Garden Archives – Chinese Information and Service Center
URL:https://cisc-seattle.org/event/sunshine-garden-basic-yoga-3-2/2026-05-13/
LOCATION:Sunshine Garden\, 611 S Lane St\, Seattle\, WA\, 98104
ATTACH;FMTTYPE=image/jpeg:https://cisc-seattle.org/wp-content/uploads/2025/03/yoga-mats.jpg
END:VEVENT
BEGIN:VEVENT
DTSTART;TZID=America/Los_Angeles:20260518T130000
DTEND;TZID=America/Los_Angeles:20260518T140000
DTSTAMP:20260423T100525
CREATED:20260102T235317Z
LAST-MODIFIED:20260102T235317Z
UID:10000522-1779109200-1779112800@cisc-seattle.org
SUMMARY:Sunshine Garden: Chinese Knot Crochet
DESCRIPTION:Learn and practice Chinese knot crochet skills with our instructor and participants. \nNote: Check our monthly Sunshine Garden calendar to confirm the class schedule prior to attending. \nSunshine Garden Archives – Chinese Information and Service Center
URL:https://cisc-seattle.org/event/sunshine-garden-chinese-knot-crochet/2026-05-18/
LOCATION:Sunshine Garden\, 611 S Lane St\, Seattle\, WA\, 98104
ATTACH;FMTTYPE=image/png:https://cisc-seattle.org/wp-content/uploads/2026/01/ChineseKnot.png
END:VEVENT
BEGIN:VEVENT
DTSTART;TZID=America/Los_Angeles:20260520T103000
DTEND;TZID=America/Los_Angeles:20260520T113000
DTSTAMP:20260423T100525
CREATED:20260102T222615Z
LAST-MODIFIED:20260102T222615Z
UID:10000167-1779273000-1779276600@cisc-seattle.org
SUMMARY:Sunshine Garden: Basic Yoga
DESCRIPTION:Learn and practice basic yoga with our instructor and participants. \nNote: Check our monthly Sunshine Garden calendar to confirm the class schedule prior to attending. \nSunshine Garden Archives – Chinese Information and Service Center
URL:https://cisc-seattle.org/event/sunshine-garden-basic-yoga-3-2/2026-05-20/
LOCATION:Sunshine Garden\, 611 S Lane St\, Seattle\, WA\, 98104
ATTACH;FMTTYPE=image/jpeg:https://cisc-seattle.org/wp-content/uploads/2025/03/yoga-mats.jpg
END:VEVENT
BEGIN:VEVENT
DTSTART;TZID=America/Los_Angeles:20260525T130000
DTEND;TZID=America/Los_Angeles:20260525T140000
DTSTAMP:20260423T100525
CREATED:20260102T235317Z
LAST-MODIFIED:20260102T235317Z
UID:10000523-1779714000-1779717600@cisc-seattle.org
SUMMARY:Sunshine Garden: Chinese Knot Crochet
DESCRIPTION:Learn and practice Chinese knot crochet skills with our instructor and participants. \nNote: Check our monthly Sunshine Garden calendar to confirm the class schedule prior to attending. \nSunshine Garden Archives – Chinese Information and Service Center
URL:https://cisc-seattle.org/event/sunshine-garden-chinese-knot-crochet/2026-05-25/
LOCATION:Sunshine Garden\, 611 S Lane St\, Seattle\, WA\, 98104
ATTACH;FMTTYPE=image/png:https://cisc-seattle.org/wp-content/uploads/2026/01/ChineseKnot.png
END:VEVENT
BEGIN:VEVENT
DTSTART;TZID=America/Los_Angeles:20260527T103000
DTEND;TZID=America/Los_Angeles:20260527T113000
DTSTAMP:20260423T100525
CREATED:20260102T222615Z
LAST-MODIFIED:20260102T222615Z
UID:10000168-1779877800-1779881400@cisc-seattle.org
SUMMARY:Sunshine Garden: Basic Yoga
DESCRIPTION:Learn and practice basic yoga with our instructor and participants. \nNote: Check our monthly Sunshine Garden calendar to confirm the class schedule prior to attending. \nSunshine Garden Archives – Chinese Information and Service Center
URL:https://cisc-seattle.org/event/sunshine-garden-basic-yoga-3-2/2026-05-27/
LOCATION:Sunshine Garden\, 611 S Lane St\, Seattle\, WA\, 98104
ATTACH;FMTTYPE=image/jpeg:https://cisc-seattle.org/wp-content/uploads/2025/03/yoga-mats.jpg
END:VEVENT
BEGIN:VEVENT
DTSTART;TZID=America/Los_Angeles:20260601T130000
DTEND;TZID=America/Los_Angeles:20260601T140000
DTSTAMP:20260423T100525
CREATED:20260102T235317Z
LAST-MODIFIED:20260102T235317Z
UID:10000524-1780318800-1780322400@cisc-seattle.org
SUMMARY:Sunshine Garden: Chinese Knot Crochet
DESCRIPTION:Learn and practice Chinese knot crochet skills with our instructor and participants. \nNote: Check our monthly Sunshine Garden calendar to confirm the class schedule prior to attending. \nSunshine Garden Archives – Chinese Information and Service Center
URL:https://cisc-seattle.org/event/sunshine-garden-chinese-knot-crochet/2026-06-01/
LOCATION:Sunshine Garden\, 611 S Lane St\, Seattle\, WA\, 98104
ATTACH;FMTTYPE=image/png:https://cisc-seattle.org/wp-content/uploads/2026/01/ChineseKnot.png
END:VEVENT
BEGIN:VEVENT
DTSTART;TZID=America/Los_Angeles:20260603T103000
DTEND;TZID=America/Los_Angeles:20260603T113000
DTSTAMP:20260423T100525
CREATED:20260102T222615Z
LAST-MODIFIED:20260102T222615Z
UID:10000298-1780482600-1780486200@cisc-seattle.org
SUMMARY:Sunshine Garden: Basic Yoga
DESCRIPTION:Learn and practice basic yoga with our instructor and participants. \nNote: Check our monthly Sunshine Garden calendar to confirm the class schedule prior to attending. \nSunshine Garden Archives – Chinese Information and Service Center
URL:https://cisc-seattle.org/event/sunshine-garden-basic-yoga-3-2/2026-06-03/
LOCATION:Sunshine Garden\, 611 S Lane St\, Seattle\, WA\, 98104
ATTACH;FMTTYPE=image/jpeg:https://cisc-seattle.org/wp-content/uploads/2025/03/yoga-mats.jpg
END:VEVENT
BEGIN:VEVENT
DTSTART;TZID=America/Los_Angeles:20260608T130000
DTEND;TZID=America/Los_Angeles:20260608T140000
DTSTAMP:20260423T100525
CREATED:20260102T235317Z
LAST-MODIFIED:20260102T235317Z
UID:10000525-1780923600-1780927200@cisc-seattle.org
SUMMARY:Sunshine Garden: Chinese Knot Crochet
DESCRIPTION:Learn and practice Chinese knot crochet skills with our instructor and participants. \nNote: Check our monthly Sunshine Garden calendar to confirm the class schedule prior to attending. \nSunshine Garden Archives – Chinese Information and Service Center
URL:https://cisc-seattle.org/event/sunshine-garden-chinese-knot-crochet/2026-06-08/
LOCATION:Sunshine Garden\, 611 S Lane St\, Seattle\, WA\, 98104
ATTACH;FMTTYPE=image/png:https://cisc-seattle.org/wp-content/uploads/2026/01/ChineseKnot.png
END:VEVENT
BEGIN:VEVENT
DTSTART;TZID=America/Los_Angeles:20260610T103000
DTEND;TZID=America/Los_Angeles:20260610T113000
DTSTAMP:20260423T100525
CREATED:20260102T222615Z
LAST-MODIFIED:20260102T222615Z
UID:10000299-1781087400-1781091000@cisc-seattle.org
SUMMARY:Sunshine Garden: Basic Yoga
DESCRIPTION:Learn and practice basic yoga with our instructor and participants. \nNote: Check our monthly Sunshine Garden calendar to confirm the class schedule prior to attending. \nSunshine Garden Archives – Chinese Information and Service Center
URL:https://cisc-seattle.org/event/sunshine-garden-basic-yoga-3-2/2026-06-10/
LOCATION:Sunshine Garden\, 611 S Lane St\, Seattle\, WA\, 98104
ATTACH;FMTTYPE=image/jpeg:https://cisc-seattle.org/wp-content/uploads/2025/03/yoga-mats.jpg
END:VEVENT
BEGIN:VEVENT
DTSTART;TZID=America/Los_Angeles:20260615T130000
DTEND;TZID=America/Los_Angeles:20260615T140000
DTSTAMP:20260423T100525
CREATED:20260102T235317Z
LAST-MODIFIED:20260102T235317Z
UID:10000526-1781528400-1781532000@cisc-seattle.org
SUMMARY:Sunshine Garden: Chinese Knot Crochet
DESCRIPTION:Learn and practice Chinese knot crochet skills with our instructor and participants. \nNote: Check our monthly Sunshine Garden calendar to confirm the class schedule prior to attending. \nSunshine Garden Archives – Chinese Information and Service Center
URL:https://cisc-seattle.org/event/sunshine-garden-chinese-knot-crochet/2026-06-15/
LOCATION:Sunshine Garden\, 611 S Lane St\, Seattle\, WA\, 98104
ATTACH;FMTTYPE=image/png:https://cisc-seattle.org/wp-content/uploads/2026/01/ChineseKnot.png
END:VEVENT
BEGIN:VEVENT
DTSTART;TZID=America/Los_Angeles:20260617T103000
DTEND;TZID=America/Los_Angeles:20260617T113000
DTSTAMP:20260423T100525
CREATED:20260102T222615Z
LAST-MODIFIED:20260102T222615Z
UID:10000300-1781692200-1781695800@cisc-seattle.org
SUMMARY:Sunshine Garden: Basic Yoga
DESCRIPTION:Learn and practice basic yoga with our instructor and participants. \nNote: Check our monthly Sunshine Garden calendar to confirm the class schedule prior to attending. \nSunshine Garden Archives – Chinese Information and Service Center
URL:https://cisc-seattle.org/event/sunshine-garden-basic-yoga-3-2/2026-06-17/
LOCATION:Sunshine Garden\, 611 S Lane St\, Seattle\, WA\, 98104
ATTACH;FMTTYPE=image/jpeg:https://cisc-seattle.org/wp-content/uploads/2025/03/yoga-mats.jpg
END:VEVENT
BEGIN:VEVENT
DTSTART;TZID=America/Los_Angeles:20260622T130000
DTEND;TZID=America/Los_Angeles:20260622T140000
DTSTAMP:20260423T100525
CREATED:20260102T235317Z
LAST-MODIFIED:20260102T235317Z
UID:10000527-1782133200-1782136800@cisc-seattle.org
SUMMARY:Sunshine Garden: Chinese Knot Crochet
DESCRIPTION:Learn and practice Chinese knot crochet skills with our instructor and participants. \nNote: Check our monthly Sunshine Garden calendar to confirm the class schedule prior to attending. \nSunshine Garden Archives – Chinese Information and Service Center
URL:https://cisc-seattle.org/event/sunshine-garden-chinese-knot-crochet/2026-06-22/
LOCATION:Sunshine Garden\, 611 S Lane St\, Seattle\, WA\, 98104
ATTACH;FMTTYPE=image/png:https://cisc-seattle.org/wp-content/uploads/2026/01/ChineseKnot.png
END:VEVENT
BEGIN:VEVENT
DTSTART;TZID=America/Los_Angeles:20260624T103000
DTEND;TZID=America/Los_Angeles:20260624T113000
DTSTAMP:20260423T100525
CREATED:20260102T222615Z
LAST-MODIFIED:20260102T222615Z
UID:10000301-1782297000-1782300600@cisc-seattle.org
SUMMARY:Sunshine Garden: Basic Yoga
DESCRIPTION:Learn and practice basic yoga with our instructor and participants. \nNote: Check our monthly Sunshine Garden calendar to confirm the class schedule prior to attending. \nSunshine Garden Archives – Chinese Information and Service Center
URL:https://cisc-seattle.org/event/sunshine-garden-basic-yoga-3-2/2026-06-24/
LOCATION:Sunshine Garden\, 611 S Lane St\, Seattle\, WA\, 98104
ATTACH;FMTTYPE=image/jpeg:https://cisc-seattle.org/wp-content/uploads/2025/03/yoga-mats.jpg
END:VEVENT
BEGIN:VEVENT
DTSTART;TZID=America/Los_Angeles:20260629T130000
DTEND;TZID=America/Los_Angeles:20260629T140000
DTSTAMP:20260423T100525
CREATED:20260102T235317Z
LAST-MODIFIED:20260102T235317Z
UID:10000528-1782738000-1782741600@cisc-seattle.org
SUMMARY:Sunshine Garden: Chinese Knot Crochet
DESCRIPTION:Learn and practice Chinese knot crochet skills with our instructor and participants. \nNote: Check our monthly Sunshine Garden calendar to confirm the class schedule prior to attending. \nSunshine Garden Archives – Chinese Information and Service Center
URL:https://cisc-seattle.org/event/sunshine-garden-chinese-knot-crochet/2026-06-29/
LOCATION:Sunshine Garden\, 611 S Lane St\, Seattle\, WA\, 98104
ATTACH;FMTTYPE=image/png:https://cisc-seattle.org/wp-content/uploads/2026/01/ChineseKnot.png
END:VEVENT
BEGIN:VEVENT
DTSTART;TZID=America/Los_Angeles:20260701T103000
DTEND;TZID=America/Los_Angeles:20260701T113000
DTSTAMP:20260423T100525
CREATED:20260102T222615Z
LAST-MODIFIED:20260102T222615Z
UID:10000302-1782901800-1782905400@cisc-seattle.org
SUMMARY:Sunshine Garden: Basic Yoga
DESCRIPTION:Learn and practice basic yoga with our instructor and participants. \nNote: Check our monthly Sunshine Garden calendar to confirm the class schedule prior to attending. \nSunshine Garden Archives – Chinese Information and Service Center
URL:https://cisc-seattle.org/event/sunshine-garden-basic-yoga-3-2/2026-07-01/
LOCATION:Sunshine Garden\, 611 S Lane St\, Seattle\, WA\, 98104
ATTACH;FMTTYPE=image/jpeg:https://cisc-seattle.org/wp-content/uploads/2025/03/yoga-mats.jpg
END:VEVENT
BEGIN:VEVENT
DTSTART;TZID=America/Los_Angeles:20260706T130000
DTEND;TZID=America/Los_Angeles:20260706T140000
DTSTAMP:20260423T100525
CREATED:20260102T235317Z
LAST-MODIFIED:20260102T235317Z
UID:10000529-1783342800-1783346400@cisc-seattle.org
SUMMARY:Sunshine Garden: Chinese Knot Crochet
DESCRIPTION:Learn and practice Chinese knot crochet skills with our instructor and participants. \nNote: Check our monthly Sunshine Garden calendar to confirm the class schedule prior to attending. \nSunshine Garden Archives – Chinese Information and Service Center
URL:https://cisc-seattle.org/event/sunshine-garden-chinese-knot-crochet/2026-07-06/
LOCATION:Sunshine Garden\, 611 S Lane St\, Seattle\, WA\, 98104
ATTACH;FMTTYPE=image/png:https://cisc-seattle.org/wp-content/uploads/2026/01/ChineseKnot.png
END:VEVENT
BEGIN:VEVENT
DTSTART;TZID=America/Los_Angeles:20260708T103000
DTEND;TZID=America/Los_Angeles:20260708T113000
DTSTAMP:20260423T100525
CREATED:20260102T222615Z
LAST-MODIFIED:20260102T222615Z
UID:10000303-1783506600-1783510200@cisc-seattle.org
SUMMARY:Sunshine Garden: Basic Yoga
DESCRIPTION:Learn and practice basic yoga with our instructor and participants. \nNote: Check our monthly Sunshine Garden calendar to confirm the class schedule prior to attending. \nSunshine Garden Archives – Chinese Information and Service Center
URL:https://cisc-seattle.org/event/sunshine-garden-basic-yoga-3-2/2026-07-08/
LOCATION:Sunshine Garden\, 611 S Lane St\, Seattle\, WA\, 98104
ATTACH;FMTTYPE=image/jpeg:https://cisc-seattle.org/wp-content/uploads/2025/03/yoga-mats.jpg
END:VEVENT
BEGIN:VEVENT
DTSTART;TZID=America/Los_Angeles:20260713T130000
DTEND;TZID=America/Los_Angeles:20260713T140000
DTSTAMP:20260423T100525
CREATED:20260102T235317Z
LAST-MODIFIED:20260102T235317Z
UID:10000530-1783947600-1783951200@cisc-seattle.org
SUMMARY:Sunshine Garden: Chinese Knot Crochet
DESCRIPTION:Learn and practice Chinese knot crochet skills with our instructor and participants. \nNote: Check our monthly Sunshine Garden calendar to confirm the class schedule prior to attending. \nSunshine Garden Archives – Chinese Information and Service Center
URL:https://cisc-seattle.org/event/sunshine-garden-chinese-knot-crochet/2026-07-13/
LOCATION:Sunshine Garden\, 611 S Lane St\, Seattle\, WA\, 98104
ATTACH;FMTTYPE=image/png:https://cisc-seattle.org/wp-content/uploads/2026/01/ChineseKnot.png
END:VEVENT
BEGIN:VEVENT
DTSTART;TZID=America/Los_Angeles:20260715T103000
DTEND;TZID=America/Los_Angeles:20260715T113000
DTSTAMP:20260423T100525
CREATED:20260102T222615Z
LAST-MODIFIED:20260102T222615Z
UID:10000304-1784111400-1784115000@cisc-seattle.org
SUMMARY:Sunshine Garden: Basic Yoga
DESCRIPTION:Learn and practice basic yoga with our instructor and participants. \nNote: Check our monthly Sunshine Garden calendar to confirm the class schedule prior to attending. \nSunshine Garden Archives – Chinese Information and Service Center
URL:https://cisc-seattle.org/event/sunshine-garden-basic-yoga-3-2/2026-07-15/
LOCATION:Sunshine Garden\, 611 S Lane St\, Seattle\, WA\, 98104
ATTACH;FMTTYPE=image/jpeg:https://cisc-seattle.org/wp-content/uploads/2025/03/yoga-mats.jpg
END:VEVENT
BEGIN:VEVENT
DTSTART;TZID=America/Los_Angeles:20260720T130000
DTEND;TZID=America/Los_Angeles:20260720T140000
DTSTAMP:20260423T100525
CREATED:20260102T235317Z
LAST-MODIFIED:20260102T235317Z
UID:10000531-1784552400-1784556000@cisc-seattle.org
SUMMARY:Sunshine Garden: Chinese Knot Crochet
DESCRIPTION:Learn and practice Chinese knot crochet skills with our instructor and participants. \nNote: Check our monthly Sunshine Garden calendar to confirm the class schedule prior to attending. \nSunshine Garden Archives – Chinese Information and Service Center
URL:https://cisc-seattle.org/event/sunshine-garden-chinese-knot-crochet/2026-07-20/
LOCATION:Sunshine Garden\, 611 S Lane St\, Seattle\, WA\, 98104
ATTACH;FMTTYPE=image/png:https://cisc-seattle.org/wp-content/uploads/2026/01/ChineseKnot.png
END:VEVENT
BEGIN:VEVENT
DTSTART;TZID=America/Los_Angeles:20260722T103000
DTEND;TZID=America/Los_Angeles:20260722T113000
DTSTAMP:20260423T100525
CREATED:20260102T222615Z
LAST-MODIFIED:20260102T222615Z
UID:10000305-1784716200-1784719800@cisc-seattle.org
SUMMARY:Sunshine Garden: Basic Yoga
DESCRIPTION:Learn and practice basic yoga with our instructor and participants. \nNote: Check our monthly Sunshine Garden calendar to confirm the class schedule prior to attending. \nSunshine Garden Archives – Chinese Information and Service Center
URL:https://cisc-seattle.org/event/sunshine-garden-basic-yoga-3-2/2026-07-22/
LOCATION:Sunshine Garden\, 611 S Lane St\, Seattle\, WA\, 98104
ATTACH;FMTTYPE=image/jpeg:https://cisc-seattle.org/wp-content/uploads/2025/03/yoga-mats.jpg
END:VEVENT
BEGIN:VEVENT
DTSTART;TZID=America/Los_Angeles:20260727T130000
DTEND;TZID=America/Los_Angeles:20260727T140000
DTSTAMP:20260423T100525
CREATED:20260102T235317Z
LAST-MODIFIED:20260102T235317Z
UID:10000532-1785157200-1785160800@cisc-seattle.org
SUMMARY:Sunshine Garden: Chinese Knot Crochet
DESCRIPTION:Learn and practice Chinese knot crochet skills with our instructor and participants. \nNote: Check our monthly Sunshine Garden calendar to confirm the class schedule prior to attending. \nSunshine Garden Archives – Chinese Information and Service Center
URL:https://cisc-seattle.org/event/sunshine-garden-chinese-knot-crochet/2026-07-27/
LOCATION:Sunshine Garden\, 611 S Lane St\, Seattle\, WA\, 98104
ATTACH;FMTTYPE=image/png:https://cisc-seattle.org/wp-content/uploads/2026/01/ChineseKnot.png
END:VEVENT
BEGIN:VEVENT
DTSTART;TZID=America/Los_Angeles:20260729T103000
DTEND;TZID=America/Los_Angeles:20260729T113000
DTSTAMP:20260423T100525
CREATED:20260102T222615Z
LAST-MODIFIED:20260102T222615Z
UID:10000306-1785321000-1785324600@cisc-seattle.org
SUMMARY:Sunshine Garden: Basic Yoga
DESCRIPTION:Learn and practice basic yoga with our instructor and participants. \nNote: Check our monthly Sunshine Garden calendar to confirm the class schedule prior to attending. \nSunshine Garden Archives – Chinese Information and Service Center
URL:https://cisc-seattle.org/event/sunshine-garden-basic-yoga-3-2/2026-07-29/
LOCATION:Sunshine Garden\, 611 S Lane St\, Seattle\, WA\, 98104
ATTACH;FMTTYPE=image/jpeg:https://cisc-seattle.org/wp-content/uploads/2025/03/yoga-mats.jpg
END:VEVENT
BEGIN:VEVENT
DTSTART;TZID=America/Los_Angeles:20260803T130000
DTEND;TZID=America/Los_Angeles:20260803T140000
DTSTAMP:20260423T100525
CREATED:20260102T235317Z
LAST-MODIFIED:20260102T235317Z
UID:10000533-1785762000-1785765600@cisc-seattle.org
SUMMARY:Sunshine Garden: Chinese Knot Crochet
DESCRIPTION:Learn and practice Chinese knot crochet skills with our instructor and participants. \nNote: Check our monthly Sunshine Garden calendar to confirm the class schedule prior to attending. \nSunshine Garden Archives – Chinese Information and Service Center
URL:https://cisc-seattle.org/event/sunshine-garden-chinese-knot-crochet/2026-08-03/
LOCATION:Sunshine Garden\, 611 S Lane St\, Seattle\, WA\, 98104
ATTACH;FMTTYPE=image/png:https://cisc-seattle.org/wp-content/uploads/2026/01/ChineseKnot.png
END:VEVENT
BEGIN:VEVENT
DTSTART;TZID=America/Los_Angeles:20260805T103000
DTEND;TZID=America/Los_Angeles:20260805T113000
DTSTAMP:20260423T100525
CREATED:20260102T222615Z
LAST-MODIFIED:20260102T222615Z
UID:10000307-1785925800-1785929400@cisc-seattle.org
SUMMARY:Sunshine Garden: Basic Yoga
DESCRIPTION:Learn and practice basic yoga with our instructor and participants. \nNote: Check our monthly Sunshine Garden calendar to confirm the class schedule prior to attending. \nSunshine Garden Archives – Chinese Information and Service Center
URL:https://cisc-seattle.org/event/sunshine-garden-basic-yoga-3-2/2026-08-05/
LOCATION:Sunshine Garden\, 611 S Lane St\, Seattle\, WA\, 98104
ATTACH;FMTTYPE=image/jpeg:https://cisc-seattle.org/wp-content/uploads/2025/03/yoga-mats.jpg
END:VEVENT
END:VCALENDAR